BEGIN:VCALENDAR
PRODID:NingEventWidget-v1
VERSION:2.0
METHOD:PUBLISH
BEGIN:VTIMEZONE
TZID:Europe/Paris
X-LIC-LOCATION:Europe/Paris
BEGIN:DAYLIGHT
TZOFFSETFROM:+0100
TZOFFSETTO:+0200
TZNAME:CEST
DTSTART:19700329T020000
RRULE:FREQ=YEARLY;BYMONTH=3;BYDAY=-1SU
END:DAYLIGHT
BEGIN:STANDARD
TZOFFSETFROM:+0200
TZOFFSETTO:+0100
TZNAME:CET
DTSTART:19701025T030000
RRULE:FREQ=YEARLY;BYMONTH=10;BYDAY=-1SU
END:STANDARD
END:VTIMEZONE
BEGIN:VEVENT
UID:2485226:Event:1719857
DTSTAMP:20260421T021127Z
SUMMARY:La musique et les leÃ§ons de vie de Lioss Aktavio
DESCRIPTION:\nChacun d'entre nous cherche le vrai accomplissement de l
 'Ã¢me, recherche la LumiÃ¨re et l'Amour. Souhaite arrÃªter le flÃ´t jo
 urnalier des soucis au sujet des tÃ¢ches Ã  accomplir, pour ressentir 
 une sensation de chÃ¢leur et de douceur dans le Coeur  et sourire. La 
 musique et les leÃ§ons de vie de Lioss Aktavio ont donnÃ© l'occasion Ã
   beaucoup de personnes de se comprendre enfin soi mÃªme ainsi que le 
 monde qui nous entoure. Enlever tous les masques et briller Ã  l'intÃ©
 rieur de soi. Moi Ieva SaliÅ†a venue de Lettonie suis trÃ¨s heureuse e
 t reconnaissante de venir partager avec vous cette unique et extraordi
 naire expÃ©rience de se laisser imprÃ©gner de libertÃ© et de sincÃ©rit
 Ã©. RÃ©vÃ©ler cette vÃ©ritÃ© intÃ©rieure qui est en chacun de nous et 
 devenir crÃ©ateur.  Vous Ãªtes amicalement invitÃ©s aux mÃ©ditations a
 vec musique et vidÃ©o, aux consultation individuelles et photographie 
 de l'aura et les chakras.\nVideo\n Programme.\nÂ \nÂ \n*Vendredi 7 fÃ©
 vrier 12:00 PrÃ©sentation de musique et des leÃ§ons de vie de Lioss Ak
 tavio, de mÃ©ditation  et de photographie de lâ€™aura et des chakras. 
 Participation Ã  partir de 5â‚¬. 19:00 MÃ©ditation en groupe avec musi
 que et vidÃ©o de Lioss Aktavio Pour une profonde  paix intÃ©rieure, la
  dÃ©tente, un sentimentÂ  infiniment vaste. Participation Ã  partir de
  15â‚¬ la une heure.  *Samedi 8 fÃ©vrier 11:00 PrÃ©sentation. Particip
 ation Ã  partir de 5â‚¬ 18:00 MÃ©ditation en groupe avec musique et vi
 dÃ©o. Participation Ã  partir de 15â‚¬ la une heure.  *Dimanche 9 fÃ©v
 rier 11:00 PrÃ©sentation. Participation Ã  partir de 5â‚¬ 15:00 MÃ©dit
 ation en groupe avec musique et vidÃ©o  Participation Ã  partir de 15â
 ‚¬ la une heure.  *Meditations avec musique et video et consultations 
 individuelles.  MÃ©ditation profonde. La possibilitÃ© de se libÃ©rer d
 es pensÃ©es,Â  du rythme et du stress quotidien. Pour un Ã©quilibre pa
 rfait dâ€™une aix intÃ©rieure profonde, de lâ€™esprit et de lâ€™Ã¢me. 
 Une perspective et un ressenti diffÃ©rents par rapport Ã  votre vie.  
 RÃ©servation nÃ©cessaire au prÃ©alable. Le prix 50 â‚¬ les 1-2 heures.
    *Sur rendez-vous, vous pourez voir votre monde intÃ©rieur  et recev
 oir votre photographie de l'aura.  Le prix - 35 â‚¬ la demi heure.\nÂ 
 \nLoterie entre tous les participants du salon avec cadeaux : * Photog
 raphie de lâ€™aura  * CD musique de LIOSS AKTAVIO\nÂ \n\n+37129143499\
 nSkype: ieva-salina ieva@sunlawio.com\nLe Liber'ThÃ© Â· 12 av jean Mou
 lin Â· Toulon 83000 Â· France\n\n\nPour plus d'information, aller sur 
 https://epanews.fr/events/la-musique-et-les-le-ons-de-vie-de-lioss-akt
 avio
DTSTART;TZID=Europe/Paris:20140207T100000
DTEND;TZID=Europe/Paris:20140213T150000
CATEGORIES:83
LOCATION:Le Liber'ThÃ©
WEBSITE:http://www.SunLawio.com/fr
URL:http://www.SunLawio.com/fr
CONTACT:06.31.28.42.64
ORGANIZER;CN="Ieva SaliÅ†a":https://epanews.fr/profile/IevaSalina
ATTACH;FMTTYPE="image/jpeg":http://storage.ning.com/topology/rest/1.0/
 file/get/1663022337?profile=original
ATTENDEE;ROLE=REQ-PARTICIPANT;PARTSTAT=ACCEPTED;RSVP=TRUE;CN="THERAPY 
 BIEN ETRE":https://epanews.fr/profile/cristalviolet
ATTENDEE;ROLE=REQ-PARTICIPANT;PARTSTAT=ACCEPTED;RSVP=TRUE;CN="Ieva Sal
 iÅ†a":https://epanews.fr/profile/IevaSalina
END:VEVENT
END:VCALENDAR
