BEGIN:VCALENDAR
PRODID:NingEventWidget-v1
VERSION:2.0
METHOD:PUBLISH
BEGIN:VTIMEZONE
TZID:Europe/Paris
X-LIC-LOCATION:Europe/Paris
BEGIN:DAYLIGHT
TZOFFSETFROM:+0100
TZOFFSETTO:+0200
TZNAME:CEST
DTSTART:19700329T020000
RRULE:FREQ=YEARLY;BYMONTH=3;BYDAY=-1SU
END:DAYLIGHT
BEGIN:STANDARD
TZOFFSETFROM:+0200
TZOFFSETTO:+0100
TZNAME:CET
DTSTART:19701025T030000
RRULE:FREQ=YEARLY;BYMONTH=10;BYDAY=-1SU
END:STANDARD
END:VTIMEZONE
BEGIN:VEVENT
UID:2485226:Event:1087124
DTSTAMP:20260423T142740Z
SUMMARY:La Methode des deux points- SÃ©minaire de base- 1 et 2 Fevrier
 -Paris 10
DESCRIPTION:Institut de Communication et de MÃ©thodologie du Changemen
 t\nLudique, simple, elle nous apporte la joie de vivre!!! \n\nCette pl
 ongÃ©e dans le champ de la conscience pure apporte une possibilitÃ©Â Â
  pour rÃ©harmoniser les Ã©nergies bloquÃ©es aussi bien sur des problÃ¨
 mes physiques, Ã©motionnels, relationnels, des croyances handicapantes
  ou des blocages dans le dÃ©veloppement personnels. Qui sont du point 
 de vue de la physique quantique, seulement des blocages dans notre cha
 mp de respiration Ã©nergÃ©tique. \n\nLors de l'application de la mÃ©th
 ode des 2 points, une impulsion est donnÃ©e qui provoque un processus 
 de transformation profond. C'est un contact magique qui va vous aider 
 Ã  retrouver qui vous Ãªtes vraiment.\n\nÂ \n\nElle va apporter des re
 ssources :\n\n- Dans les dÃ©fis physiques. - Dans les conflits psychiq
 ues, stress, difficultÃ©s d'apprentissage. - Dans les thÃ¨mes de vie c
 omme des problÃ¨mes de la vie de tous les jours,Â Â Â Â Â Â Â Â Â Â Â 
 Â Â Â Â Â Â Â Â Â Â Â Â Â Â Â Â travaille, prÃ©occupations d'argent, m
 aladie des animaux ou bien des disfonctionnements matÃ©riels.\n\ntout 
 est Ã¨nergie et information dans le champ quantique\n\n- Dans les prob
 lÃ¨mes relationnels et familiaux.\n\n- Dans les croyances nÃ©gatives.\
 n\n- Des blocages dans le dÃ©veloppement personnel\n\n Cette mÃ©thode 
 peut Ãªtre intÃ©grÃ©e dans le quotidien pour permettre des transformat
 ions immÃ©diatesÂ ce qui conduit Ã  une vie dans la joie et l'abondanc
 e.\n\n Pour les thÃ©rapeute, elle intensifie les rÃ©sultats avec d'aut
 res techniques utilisÃ©es. \n\nC'est une technique trÃ¨s simple qui pe
 ut Ãªtre pratiquÃ©e par tout le monde quelque soit son age (de 5 Ã  â€
 ¦)Â Â c'est une ouverture qui nous est apportÃ© par cette nouvelle Ã©p
 oque naissante du Verseau.\n\nÂ \nÂ \n\nPour plus d'information, aller
  sur https://epanews.fr/events/la-methode-des-deux-points-s-minaire-de
 -base-1-et-2-fevrier-paris
DTSTART;TZID=Europe/Paris:20130201T090000
DTEND;TZID=Europe/Paris:20130202T170000
CATEGORIES:paris, 10
LOCATION:Institut de Communication et de MÃ©thodologie du Changement
WEBSITE:http://www.resonance-quantique.com
URL:http://www.resonance-quantique.com
CONTACT:06 03 22 61 48
ORGANIZER;CN=mamine:https://epanews.fr/profile/mamine
ATTACH;FMTTYPE="image/jpeg":
ATTENDEE;ROLE=REQ-PARTICIPANT;PARTSTAT=ACCEPTED;RSVP=TRUE;CN=mamine:ht
 tps://epanews.fr/profile/mamine
END:VEVENT
END:VCALENDAR
