BEGIN:VCALENDAR
PRODID:NingEventWidget-v1
VERSION:2.0
METHOD:PUBLISH
BEGIN:VTIMEZONE
TZID:Europe/Paris
X-LIC-LOCATION:Europe/Paris
BEGIN:DAYLIGHT
TZOFFSETFROM:+0100
TZOFFSETTO:+0200
TZNAME:CEST
DTSTART:19700329T020000
RRULE:FREQ=YEARLY;BYMONTH=3;BYDAY=-1SU
END:DAYLIGHT
BEGIN:STANDARD
TZOFFSETFROM:+0200
TZOFFSETTO:+0100
TZNAME:CET
DTSTART:19701025T030000
RRULE:FREQ=YEARLY;BYMONTH=10;BYDAY=-1SU
END:STANDARD
END:VTIMEZONE
BEGIN:VEVENT
UID:2485226:Event:1877205
DTSTAMP:20260421T114134Z
SUMMARY:La marche en pleine conscience dans le Parc de Saint-Cloud
DESCRIPTION:La marche en pleine conscience dans le Parc de Saint-Cloud
 \n\nVenez vous ressourcer !\nEn pratiquant la marche en pleine conscie
 nce, la synchronisation respiratoire (issue de la mÃ©thode RÃ©flexes D
 Ã©tente)  Nous marcherons lentementÂ   Au cours de la marche on s'arrÃ
 ªte, on se pose, pour accueillir, recueillir, souffler, respirer, s'in
 spirer et redonner du souffle Ã  notre vie.  Les objectifs principaux 
 de cette marche :  acquÃ©rir les base de la mÃ©thode RÃ©flexes Detente
  renforcer ses capacitÃ©s de rÃ©cupÃ©ration, renforcer ses capacitÃ©s 
 Ã  se dÃ©tendre  et dÃ©couvrir le Parc de Saint-Cloud aux portes de Pa
 ris\nTarif : 15 â‚¬\nrÃ©servation et infos: reflexes-detente@netcourri
 er.com\n\nPour plus d'information, aller sur https://epanews.fr/events
 /la-marche-en-pleine-conscience-dans-la-plaine-de-versailles-4
DTSTART;TZID=Europe/Paris:20140419T153000
DTEND;TZID=Europe/Paris:20140419T173000
CATEGORIES:92
LOCATION:2 Place de la Manufacture SÃ¨vres
WEBSITE:http://reflexes-detente.over-blog.com/
URL:http://reflexes-detente.over-blog.com/
CONTACT:
ORGANIZER;CN="Reflexes Detente":https://epanews.fr/profile/ReflexesDet
 ente
ATTACH;FMTTYPE="image/jpeg":http://storage.ning.com/topology/rest/1.0/
 file/get/1663114125?profile=original
ATTENDEE;ROLE=REQ-PARTICIPANT;PARTSTAT=ACCEPTED;RSVP=TRUE;CN="Reflexes
  Detente":https://epanews.fr/profile/ReflexesDetente
END:VEVENT
END:VCALENDAR
