BEGIN:VCALENDAR
PRODID:NingEventWidget-v1
VERSION:2.0
METHOD:PUBLISH
BEGIN:VTIMEZONE
TZID:Europe/Paris
X-LIC-LOCATION:Europe/Paris
BEGIN:DAYLIGHT
TZOFFSETFROM:+0100
TZOFFSETTO:+0200
TZNAME:CEST
DTSTART:19700329T020000
RRULE:FREQ=YEARLY;BYMONTH=3;BYDAY=-1SU
END:DAYLIGHT
BEGIN:STANDARD
TZOFFSETFROM:+0200
TZOFFSETTO:+0100
TZNAME:CET
DTSTART:19701025T030000
RRULE:FREQ=YEARLY;BYMONTH=10;BYDAY=-1SU
END:STANDARD
END:VTIMEZONE
BEGIN:VEVENT
UID:2485226:Event:757313
DTSTAMP:20260423T201002Z
SUMMARY:La Marche Autrement: Atelier 100% pratique !
DESCRIPTION:Pas Ã  pas, re-trouver le plaisir de marcher pour plus de 
 Bien Ãªtre au Quotidien\nExpÃ©rience de respect dâ€™ouverture Ã  Soi, 
 Ã  la Nature et aux Autres.\nAu cours de cet atelier :\n-Â Â RÃ©veil C
 orporel et Ã©nergÃ©tique Â des sens tout en douceur\n-Â Â Marche Consc
 iente et Afghane avecÂ  des rythmes respiratoiresÂ  diffÃ©rentsÂ \n-Â 
 Â Exercices et situations corporelles pratiques en contact avec la Nat
 ure, les Autres, Soi.\n-Â Â Â MÃ©ditation\nTarifÂ : AtelierÂ  15 â‚¬ Â
  Â Ã  lâ€™UnitÃ©\nPour les non adhÃ©rentsÂ : AdhÃ©sion annuelle Ã  l'A
 ssociation Â Pas Sage de 10â‚¬ par an donnant droit Ã  participer Ã  t
 outes les activitÃ©s.\nLe PlusÂ : 12 personnes maximum\nEnseignement p
 ar Isabelle, passionnÃ©eÂ  par la Marche, la Nature, la Relation Humai
 ne. Coach Humaniste, PÃ©gagogue du Corps.\nInscription prÃ©alable:\nis
 abelle.gaubert@lamarche-autrement.com\n\nPour plus d'information, alle
 r sur https://epanews.fr/events/la-marche-autrement-atelier-100-pratiq
 ue
DTSTART;TZID=Europe/Paris:20120421T133000
DTEND;TZID=Europe/Paris:20120421T170000
CATEGORIES:11
LOCATION:Narbonne et ses environs
WEBSITE:http://www.lamarche-autrement.com
URL:http://www.lamarche-autrement.com
CONTACT:06 81 09 15 78
ORGANIZER;CN="GAUBERT Isabelle":https://epanews.fr/profile/GAUBERTIsab
 elle
ATTACH;FMTTYPE="image/jpeg":http://storage.ning.com/topology/rest/1.0/
 file/get/1662587149?profile=original
ATTENDEE;ROLE=REQ-PARTICIPANT;PARTSTAT=ACCEPTED;RSVP=TRUE;CN="GAUBERT 
 Isabelle":https://epanews.fr/profile/GAUBERTIsabelle
END:VEVENT
END:VCALENDAR
