BEGIN:VCALENDAR
PRODID:NingEventWidget-v1
VERSION:2.0
METHOD:PUBLISH
BEGIN:VTIMEZONE
TZID:Europe/Paris
X-LIC-LOCATION:Europe/Paris
BEGIN:DAYLIGHT
TZOFFSETFROM:+0100
TZOFFSETTO:+0200
TZNAME:CEST
DTSTART:19700329T020000
RRULE:FREQ=YEARLY;BYMONTH=3;BYDAY=-1SU
END:DAYLIGHT
BEGIN:STANDARD
TZOFFSETFROM:+0200
TZOFFSETTO:+0100
TZNAME:CET
DTSTART:19701025T030000
RRULE:FREQ=YEARLY;BYMONTH=10;BYDAY=-1SU
END:STANDARD
END:VTIMEZONE
BEGIN:VEVENT
UID:2485226:Event:708667
DTSTAMP:20260423T174532Z
SUMMARY:La mÃ©thode de libÃ©ration des cuirasses
DESCRIPTION:Une approche psychocorporelle comme chemin vers soi.La MLC
  est une pratique de mouvements simples, dans un Ã©tat de dÃ©tente,qui
  permet Ã  chacun, selon son propre rythme, d'instaurer un dialogue av
 ec son corps. Progressivement, les tensions accumulÃ©es se dÃ©nouent, 
 ouvrant les Â« cuirasses Â» physiques. Or, dialoguer avec les diffÃ©re
 ntes parties de son corps, c'est aussi apprendre Ã  Ã©couter les parti
 es de soi en souffrance, ces messages envoyÃ©s par l'inconscient pour 
 se faire entendre. Tout est liÃ© : Corps â€“ Emotions â€“ Croyances.En
  jouant sur la relation entre corps et psychÃ© (psychosomatique), en t
 oute Ã©cologie, l'individu peu Ã  peu se libÃ¨re de ses croyances limi
 tatives, de ses Â« cuirasses Â» psychiques, pour s'autoriser Ã  Â« Ãªt
 re Â» et laisser circuler lâ€™Ã©nergie vitale. Ressentir, accueillir c
 e qui est lÃ , de maniÃ¨re bienveillante et sans jugement, pour aller 
 contacter ses ressources internes (le noyau sain).GisÃ¨le est MaÃ®tre 
 de ConfÃ©rences Ã  la facultÃ© des sciences du sport, praticienne MLC,
  diplÃ´mÃ©e Qi Gong (IEQG), et formÃ©e au Yoga du Son et Ã  la Mindful
 ness : \"La MLC, le yoga du son, le Qi Gong, la mÃ©ditation (active et
  immobile) sont,de mon point de vue, autant dâ€™entrÃ©es possibles, pr
 ivilÃ©giant le corps dans lâ€™instant prÃ©sent, pour sâ€™approcher au 
 plus prÃ¨s de soi. Poser le Â« FAIRE Â» pour aller vers lâ€™Â« ETRE Â»
 . Le point commun est la dÃ©marche qui considÃ¨re que se relier Ã  soi
  par le corps est une voie de connaissance authentique : le corps ne m
 ent pas Â».===La MLC a Ã©tÃ© crÃ©e par Marie-Lise LABONTE â€“ Psychoth
 Ã©rapeute quÃ©becoise,internationalement connue, auteure de nombreux o
 uvrages (dont Â« Le dÃ©clic Â» - Â« Au cÅ“ur de notre corps Â»). Elle 
 sâ€™est inspirÃ©e de son processus d'auto-guÃ©rison et de plusieurs an
 nÃ©es de recherche et d'expÃ©rimentation en psychosomatique et Ã©nergÃ
 ©tique.t gagner en autonomie !?PratiqueMontpellier Gambetta Â  Tarif p
 ublic : 6 â‚¬ | adhÃ©rent : 4 â‚¬Â  infos & contact :Â  www.accompagne
 ment-par-le-corps.com Â Ã  savoir13 rue Roudil,20h15Le centre de yoga 
 est moquettÃ©.L'assise est au sol et le dÃ©chaussement est requis.Appo
 rter Ã©ventuellement un chÃ¢le ou une couverture lÃ©gÃ¨re.Â Â Lat-Lng 
 : 43.603893,3.869662999999946 Adresse : 13 Rue Roudil, 34000 Montpelli
 er, France Plus dâ€™informations sur notre site : www.happyplanetdays.
 com\n\nPour plus d'information, aller sur https://epanews.fr/events/la
 -m-thode-de-lib-ration-des-cuirasses
DTSTART;TZID=Europe/Paris:20120228T200000
DTEND;TZID=Europe/Paris:20120228T220000
CATEGORIES:34
LOCATION:Montpellier
WEBSITE:http://www.happyplanetdays.com
URL:http://www.happyplanetdays.com
CONTACT:06 32 08 51 58
ORGANIZER:Association HappyPlanetDays
ATTACH;FMTTYPE="image/jpeg":http://storage.ning.com/topology/rest/1.0/
 file/get/1662566663?profile=original
ATTENDEE;ROLE=REQ-PARTICIPANT;PARTSTAT=ACCEPTED;RSVP=TRUE;CN="Sophie v
 db":https://epanews.fr/profile/Sophievdb
END:VEVENT
END:VCALENDAR
