BEGIN:VCALENDAR
PRODID:NingEventWidget-v1
VERSION:2.0
METHOD:PUBLISH
BEGIN:VTIMEZONE
TZID:Europe/Paris
X-LIC-LOCATION:Europe/Paris
BEGIN:DAYLIGHT
TZOFFSETFROM:+0100
TZOFFSETTO:+0200
TZNAME:CEST
DTSTART:19700329T020000
RRULE:FREQ=YEARLY;BYMONTH=3;BYDAY=-1SU
END:DAYLIGHT
BEGIN:STANDARD
TZOFFSETFROM:+0200
TZOFFSETTO:+0100
TZNAME:CET
DTSTART:19701025T030000
RRULE:FREQ=YEARLY;BYMONTH=10;BYDAY=-1SU
END:STANDARD
END:VTIMEZONE
BEGIN:VEVENT
UID:2485226:Event:1934621
DTSTAMP:20260421T061759Z
SUMMARY:La louve Blanche
DESCRIPTION:Découvrir, réveiller, chanter,frémir,apprivoiser,invoqu
 er, chercher,créer: LA LOUVE Voici une nouvelle journée de femme cel
 le de LA LOUVE BLANCHE Cachée dans l'ombre ,elle n'attend qu'un mot, 
 un son, un regard pour prendre corps et forme C'est une danse une tran
 se , un cri dans ta poitrine, un rêve peut être !Cachée dans les bo
 is ,dans notre mémoire ou raconter dans les contes La louve devient l
 e clan, la meute, les rebelles, les sauvages!La louve est la lune, ell
 e est un chant de la nuit, une étoile dans le firmamentBlanche comme 
 la neige, comme cet oasis ou jamais ne s'épuise les désirs La louve 
 apparait créant le féminin en soi, le juste équilibre , la fidélit
 é à son âme , à son être , une magie féminine , une médecine de
  femme..Je vous invite dans la sororité à venir la découvrir, à re
 -créer le cercle des louves cet été chez Marie- Marie France Omedes
  Pichot à Carcassonne Rdv le 20 juillet l ( 10h /17h ) dans les herbe
 s ou à l'abris  Plus d'info sur http://lechantdesarbres.over-blog.com
 / ou 06 20 34 54 99 ou Marie France 06 62 05 24 98 participation 60 eu
 ros / réservation demandée/Repas partagé Yaël\n\nPour plus d'infor
 mation, aller sur https://epanews.fr/events/la-louve-blanche
DTSTART;TZID=Europe/Paris:20140720T100000
DTEND;TZID=Europe/Paris:20140720T170000
CATEGORIES:11
LOCATION:Carcassonne
WEBSITE:
URL:
CONTACT:
ORGANIZER;CN=Yaël:https://epanews.fr/profile/yael
ATTACH;FMTTYPE="image/jpeg":http://storage.ning.com/topology/rest/1.0/
 file/get/1663146589?profile=original
ATTENDEE;ROLE=REQ-PARTICIPANT;PARTSTAT=ACCEPTED;RSVP=TRUE;CN=Yaël:htt
 ps://epanews.fr/profile/yael
END:VEVENT
END:VCALENDAR
