BEGIN:VCALENDAR
PRODID:NingEventWidget-v1
VERSION:2.0
METHOD:PUBLISH
BEGIN:VTIMEZONE
TZID:Europe/Paris
X-LIC-LOCATION:Europe/Paris
BEGIN:DAYLIGHT
TZOFFSETFROM:+0100
TZOFFSETTO:+0200
TZNAME:CEST
DTSTART:19700329T020000
RRULE:FREQ=YEARLY;BYMONTH=3;BYDAY=-1SU
END:DAYLIGHT
BEGIN:STANDARD
TZOFFSETFROM:+0200
TZOFFSETTO:+0100
TZNAME:CET
DTSTART:19701025T030000
RRULE:FREQ=YEARLY;BYMONTH=10;BYDAY=-1SU
END:STANDARD
END:VTIMEZONE
BEGIN:VEVENT
UID:2485226:Event:2982151
DTSTAMP:20260420T024944Z
SUMMARY:la Libération du Péricarde
DESCRIPTION:Conférence : Libérer le Péricarde, c'est libérer la Vi
 e !\n    - le Péricarde, membrane qui entoure et protège le coeur
 \n    - nos mécanismes de protection : la Vie, la survie, l'impact
  des chocs dans nos cellules, les blocages\n    - la Libération du
  Péricarde : la séance et ses effets\n    - la Libération du Pé
 ricarde : un mode de vie, en conscience\n    - quelques clefs concr
 ètes pour gérer notre quotidien\n\nVive le Péricarde libre ! Vive l
 a Vie ! Anayawaka !\n\n\n\n\nPour plus d'information, aller sur https:
 //epanews.fr/events/la-lib-ration-du-p-ricarde-1
DTSTART;TZID=Europe/Paris:20181004T193000
DTEND;TZID=Europe/Paris:20181004T220000
CATEGORIES:13
LOCATION:Aix-en-Provence
WEBSITE:http://www.liberationdupericarde.org
URL:http://www.liberationdupericarde.org
CONTACT:07 50 49 73 15
ORGANIZER:Anne
ATTACH;FMTTYPE="image/jpeg":http://storage.ning.com/topology/rest/1.0/
 file/get/4203175927?profile=original
ATTENDEE;ROLE=REQ-PARTICIPANT;PARTSTAT=ACCEPTED;RSVP=TRUE;CN=Vincent-E
 mmanuel:https://epanews.fr/profile/vincent
END:VEVENT
END:VCALENDAR
