BEGIN:VCALENDAR
PRODID:NingEventWidget-v1
VERSION:2.0
METHOD:PUBLISH
BEGIN:VTIMEZONE
TZID:Europe/Paris
X-LIC-LOCATION:Europe/Paris
BEGIN:DAYLIGHT
TZOFFSETFROM:+0100
TZOFFSETTO:+0200
TZNAME:CEST
DTSTART:19700329T020000
RRULE:FREQ=YEARLY;BYMONTH=3;BYDAY=-1SU
END:DAYLIGHT
BEGIN:STANDARD
TZOFFSETFROM:+0200
TZOFFSETTO:+0100
TZNAME:CET
DTSTART:19701025T030000
RRULE:FREQ=YEARLY;BYMONTH=10;BYDAY=-1SU
END:STANDARD
END:VTIMEZONE
BEGIN:VEVENT
UID:2485226:Event:2952077
DTSTAMP:20260419T220341Z
SUMMARY:La libÃ©ration des blocages nÃ©gatifs dans lâ€™homme
DESCRIPTION:Les rencontres essÃ©niennes sont des espaces privilÃ©giÃ©s
 . Toutes les conditions sont rÃ©unies pour offrir aux participants lâ€
 ™opportunitÃ© dâ€™accomplir un travail de libÃ©ration. Cette libÃ©rati
 on permet dâ€™accueillir une nouvelle impulsion qui Ã©claire ce que ch
 acun porte en lui de vrai et de beau. Câ€™est un vÃ©ritable chemin pou
 r trouver la sÃ©rÃ©nitÃ©.Â Pendant 4 jours, une Ã©nergie appelÃ©e grÃ¢
 ce Ã  un savoir-faire ancestral, descend des sphÃ¨res les plus hautes.
  Cette Ã©nergie va nous Ã©clairer dâ€™une lumiÃ¨re vÃ©ritable permetta
 nt ainsi de profondes prises de conscience.Il est alors possible de co
 mprendre et de mettre des mots sur des blocages ou encore sur des situ
 ations rÃ©currentes dans notre vie qui nous freinent et nous empÃªchen
 t de vivre avec sÃ©rÃ©nitÃ©.Â \n\nPour plus d'information, aller sur h
 ttps://epanews.fr/events/la-lib-ration-des-blocages-n-gatifs-dans-l-ho
 mme
DTSTART;TZID=Europe/Paris:20180613T000000
DTEND;TZID=Europe/Paris:20180617T235900
CATEGORIES:tous
LOCATION:HÃ´tel EVENIA
WEBSITE:
URL:
CONTACT:+33(0)6 59 77 87 90
ORGANIZER:Ronde des Archanges
ATTACH;FMTTYPE="image/jpeg":http://storage.ning.com/topology/rest/1.0/
 file/get/1663735670?profile=original
ATTENDEE;ROLE=REQ-PARTICIPANT;PARTSTAT=ACCEPTED;RSVP=TRUE;CN=Janouka:h
 ttps://epanews.fr/profile/Janouka
END:VEVENT
END:VCALENDAR
