BEGIN:VCALENDAR
PRODID:NingEventWidget-v1
VERSION:2.0
METHOD:PUBLISH
BEGIN:VTIMEZONE
TZID:Europe/Paris
X-LIC-LOCATION:Europe/Paris
BEGIN:DAYLIGHT
TZOFFSETFROM:+0100
TZOFFSETTO:+0200
TZNAME:CEST
DTSTART:19700329T020000
RRULE:FREQ=YEARLY;BYMONTH=3;BYDAY=-1SU
END:DAYLIGHT
BEGIN:STANDARD
TZOFFSETFROM:+0200
TZOFFSETTO:+0100
TZNAME:CET
DTSTART:19701025T030000
RRULE:FREQ=YEARLY;BYMONTH=10;BYDAY=-1SU
END:STANDARD
END:VTIMEZONE
BEGIN:VEVENT
UID:2485226:Event:942055
DTSTAMP:20260420T073231Z
SUMMARY:La Légende personnelle
DESCRIPTION:Notre légende personnelle\n\n Nous portons tous un mythe
  fondateur, source primordiale et intime témoin de notre identité sp
 irituelle. Au gré des incarnations successives il a donné naissance 
 à un personnage qui s’est cristallisé et qui agit en arrière-plan
  de notre personnalité.\n L’ensemble compose un théâtre qui s’
 organise en trois niveaux de réalité :\n- l’auteur de la pièce q
 ui se révèle parfois à travers les grands rêves ou certains états
  modifiés de conscience. Il porte la plus grande souffrance et la plu
 s grande lumière, Il est le noyau psychotique, l’inaccessible étoi
 le, l’acteur du retournement de l’être.\n- Le décor et la trame 
 de l’histoire, peu perceptible par l’entourage si ce n’est par l
 es intimes. Il est ce personnage cristallisé que chacun pressent en a
 rrière-plan de sa personnalité. C’est la respiration de l’âme 
 qui s’active à la frontière de  la personnalité et des mondes in
 térieurs.\n- Les acteurs de la pièce qui se meuvent sur la scène ex
 istentielle et que chacun affiche au grand jour sous la forme des diff
 érentes facettes de la personnalité.\nCette pièce où se jouent com
 édies, drames, farces, tragédies et vaudevilles est la trame de notr
 e légende personnelle ou se niche le secret de notre retour vers l’
 être suprême.\nCe séminaire propose à chacun de découvrir cette l
 égende d’une manière concrète et personnelle. Votre thème me ser
 t de fil d’Ariane pour vous accompagner dans cette initiation et vou
 s donner les repères fondamentaux. Il n’est pas nécessaire d’avo
 ir des connaissances en Astrologie.\nbulletin d'inscription auprès du
  Centre Célestine.Le coût de la journée est de 75€\n\nPour plus d
 'information, aller sur https://epanews.fr/events/la-l-gende-personnel
 le
DTSTART;TZID=Europe/Paris:20121014T090000
DTEND;TZID=Europe/Paris:20121014T190000
CATEGORIES:11
LOCATION:Ventenac en Minervois
WEBSITE:http://info@centrecelestine.com
URL:http://info@centrecelestine.com
CONTACT:04 68 49 29 24
ORGANIZER;CN=KIRON:https://epanews.fr/profile/KIRON
ATTACH;FMTTYPE="image/jpeg":
ATTENDEE;ROLE=REQ-PARTICIPANT;PARTSTAT=ACCEPTED;RSVP=TRUE;CN=KIRON:htt
 ps://epanews.fr/profile/KIRON
END:VEVENT
END:VCALENDAR
