BEGIN:VCALENDAR
PRODID:NingEventWidget-v1
VERSION:2.0
METHOD:PUBLISH
BEGIN:VTIMEZONE
TZID:Europe/Paris
X-LIC-LOCATION:Europe/Paris
BEGIN:DAYLIGHT
TZOFFSETFROM:+0100
TZOFFSETTO:+0200
TZNAME:CEST
DTSTART:19700329T020000
RRULE:FREQ=YEARLY;BYMONTH=3;BYDAY=-1SU
END:DAYLIGHT
BEGIN:STANDARD
TZOFFSETFROM:+0200
TZOFFSETTO:+0100
TZNAME:CET
DTSTART:19701025T030000
RRULE:FREQ=YEARLY;BYMONTH=10;BYDAY=-1SU
END:STANDARD
END:VTIMEZONE
BEGIN:VEVENT
UID:2485226:Event:2282494
DTSTAMP:20260422T233016Z
SUMMARY:la guérison à portée de vos mains !
DESCRIPTION:Atelier-découverte du magnétisme et des thérapies quant
 iques\nLe fabuleux pouvoir de guérir est déjà en vous !\nVenez en f
 aire l’expérience. Et  apprenez, à l’aide de  techniques simpl
 es, comment soulager les souffrances des autres, leur d’apporter mie
 ux être, santé et joie de vivre, et aussi vous protéger.\nVous appr
 endrez comment :\n \n\nPratiquer des passes et des impositions des m
 ains\nTester la puissance de votre énergie\nLocaliser les perturbatio
 ns énergétiques et  les  soulager\nse protéger des ondes négativ
 es et se « nettoyer » après une séance.\nbooster votre pouvoir d
 e guérir par la respiration et les visualisations\nfaire des soins à
  distance etc. …\n Venez aussi expérimenter les pouvoirs extraordi
 naires du DJED Egyptien,\n\ndes SOLIDES DE PLATON, et du CLEANERGY !\
 n \n          Ateliers ouvert à tous, thérapeutes ou non.\
 n \nParticipation 40€\n(60€ pour 2 personnes)\nEt seulement 30€
  (50€ pour 2) si inscription au  plus tard le Jeudi 16 !\n \n \n
  \nRéservation souhaitée !\n(Nombre de participants limité à 20 
 personnes)\n \nAnimé par Patrick CANESTRARI Magnétiseur-Energétici
 en,\nwww.magnetiseur-energeticien-75.fr\n\nPour plus d'information, al
 ler sur https://epanews.fr/events/la-gu-rison-port-e-de-vos-mains-2
DTSTART;TZID=Europe/Paris:20150419T110000
DTEND;TZID=Europe/Paris:20150419T150000
CATEGORIES:75
LOCATION:Salle JLP (au sous-sol)
WEBSITE:http://www.magnetiseur-energeticien-75.fr
URL:http://www.magnetiseur-energeticien-75.fr
CONTACT:06 21 30 68 45
ORGANIZER;CN="PATRICK CANESTRARI":https://epanews.fr/profile/PATRICKCA
 NESTRARI
ATTACH;FMTTYPE="image/jpeg":http://storage.ning.com/topology/rest/1.0/
 file/get/1663365533?profile=original
ATTENDEE;ROLE=REQ-PARTICIPANT;PARTSTAT=ACCEPTED;RSVP=TRUE;CN="PATRICK 
 CANESTRARI":https://epanews.fr/profile/PATRICKCANESTRARI
END:VEVENT
END:VCALENDAR
