BEGIN:VCALENDAR
PRODID:NingEventWidget-v1
VERSION:2.0
METHOD:PUBLISH
BEGIN:VTIMEZONE
TZID:Europe/Paris
X-LIC-LOCATION:Europe/Paris
BEGIN:DAYLIGHT
TZOFFSETFROM:+0100
TZOFFSETTO:+0200
TZNAME:CEST
DTSTART:19700329T020000
RRULE:FREQ=YEARLY;BYMONTH=3;BYDAY=-1SU
END:DAYLIGHT
BEGIN:STANDARD
TZOFFSETFROM:+0200
TZOFFSETTO:+0100
TZNAME:CET
DTSTART:19701025T030000
RRULE:FREQ=YEARLY;BYMONTH=10;BYDAY=-1SU
END:STANDARD
END:VTIMEZONE
BEGIN:VEVENT
UID:2485226:Event:2086002
DTSTAMP:20260422T054231Z
SUMMARY:la guÃ©rison Ã  portÃ©e de main !
DESCRIPTION:Venez expÃ©rimenter concrÃ¨tement cette puissance de guÃ©r
 ir qui est dÃ©jÃ  en vous, pour soulager la souffrance des autres et l
 esÂ  aider Ã  retrouver mieux-Ãªtre et joie de vivreÂ !\nÂ \nVous appr
 endrez commentÂ :\nÃ¼ Pratiquer les diffÃ©rentes sortes de passes et Â
  impositions des mains\nÃ¼ Tester la puissance de votre Ã©nergie\nÃ¼ L
 ocaliser les perturbations Ã©nergÃ©tiques etÂ  lesÂ  soulager\nÃ¼ Se p
 rotÃ©ger des ondes nÃ©gatives et se Â«Â nettoyerÂ Â» aprÃ¨s une sÃ©anc
 e.\nÃ¼ AccroitreÂ  votre pouvoir de guÃ©rir par la respiration et les 
 visualisationsÂ Â Â Â Â Â Â Â Â Â Â \nÂ \nVenez aussi expÃ©rimenter le
 s pouvoirs extraordinaires du DJED,\ndes SOLIDES DE PLATON, et du CLEA
 NERGYÂ !\nÂ \nÂ Â Â Â Â Â Â Â Â Â Â Â Ateliers ouvert Ã  tous, thÃ©rap
 eutes ou non.\nÂ Â Â Â Â Â Â Â Â Â Â Â Â Â Â Â Â Â Â Â Â Â Â Â Â Â Â Â
  Â Â Â Â Â Â Â Â Â Â Â Â Â Â Â Â Â Â Â Â Â Â Â Â Â Â Â Â Â Â Â Â Â Â Â
  Â Â Â \nÂ Â Â Â Â Â Â Â Â Â Â Â Â Â Â Â Â Â Â Â Â Â Â Â Â Â Â Â Â Par
 ticipation 40â‚¬\nÂ  Â  Â  Â  Â  Â  Â  Â  Â  Â  Â  Â (60â‚¬ pour 2 per
 sonnes)\nLes prochains ateliersÂ de 2014Â Â auront lieu le 23 novembre
 , et le 7 et le 21 dÃ©cembre\n\nPour plus d'information, aller sur htt
 ps://epanews.fr/events/la-gu-rison-port-e-de-main-5
DTSTART;TZID=Europe/Paris:20141109T140000
DTEND;TZID=Europe/Paris:20141109T180000
CATEGORIES:75
LOCATION:Salle JLP (au sous-sol)
WEBSITE:http://www.magnetiseur-energeticien-75.fr
URL:http://www.magnetiseur-energeticien-75.fr
CONTACT:06 21 30 68 45
ORGANIZER;CN="PATRICK CANESTRARI":https://epanews.fr/profile/PATRICKCA
 NESTRARI
ATTACH;FMTTYPE="image/jpeg":http://storage.ning.com/topology/rest/1.0/
 file/get/1663234256?profile=original
ATTENDEE;ROLE=REQ-PARTICIPANT;PARTSTAT=ACCEPTED;RSVP=TRUE;CN="PATRICK 
 CANESTRARI":https://epanews.fr/profile/PATRICKCANESTRARI
END:VEVENT
END:VCALENDAR
