BEGIN:VCALENDAR
PRODID:NingEventWidget-v1
VERSION:2.0
METHOD:PUBLISH
BEGIN:VTIMEZONE
TZID:Europe/Paris
X-LIC-LOCATION:Europe/Paris
BEGIN:DAYLIGHT
TZOFFSETFROM:+0100
TZOFFSETTO:+0200
TZNAME:CEST
DTSTART:19700329T020000
RRULE:FREQ=YEARLY;BYMONTH=3;BYDAY=-1SU
END:DAYLIGHT
BEGIN:STANDARD
TZOFFSETFROM:+0200
TZOFFSETTO:+0100
TZNAME:CET
DTSTART:19701025T030000
RRULE:FREQ=YEARLY;BYMONTH=10;BYDAY=-1SU
END:STANDARD
END:VTIMEZONE
BEGIN:VEVENT
UID:2485226:Event:673230
DTSTAMP:20260423T230511Z
SUMMARY:La guÃ©rison Ã©motionnelle
DESCRIPTION:ATELIER OUVERT AUX THERAPEUTES ET PARTICULIERSÂ \n--------
 -----------------------------------------------------\nLors de cet ate
 lier, DÃ©borah Waknine expliquera comment utiliser le pouvoir de la pe
 nsÃ©e crÃ©atrice pour rÃ©aliser notre objectif sur le plan physique, m
 atÃ©riel, intellectuel, Ã©motionnel, sexuel et spirituel.  Pour y arri
 ver, nous utilisons plusieurs outils dont la comprÃ©hension du langage
  Ã©motionnel ainsi que des exercices de rÃ©gressions et constellations
  Ã©motionnelles qui nous permettent de mettre en lumiÃ¨re les blocages
  que nous pose notre inconscient. Dans un premier temps nous mettrons 
 en lumiÃ¨re, ensemble, les parties inconscientes qui vous limitent enc
 ore aujourd'hui...puis, pour parvenir Ã  se libÃ©rer de ces freins, no
 us travaillerons sur la blessure qui vous maintient encore dans un res
 senti non Ã©cologique nuisant Ã  votre Ã©volution actuelle et Ã  votre
  Ã©panouissement ! Il s'agira donc :\n-->de comprendre le sens de ce q
 ui nous arrive.\nÂ -->d' accueillir le ressenti.\nÂ -->de libÃ©rer l'Ã
 ©motion nÃ©gative en conscience.\nTarif: 250â‚¬\nPour en savoir plus s
 ur DÃ©borah: www.deborahwaknine.comÂ \nPour plus d'informations et pou
 r vous inscrire, contactez CÃ©line: celineetcheverrymendy@hotmail.com 
 ou 06.11.67.44.30.\n\nPour plus d'information, aller sur https://epane
 ws.fr/events/la-gu-rison-motionnelle
DTSTART;TZID=Europe/Paris:20120225T100000
DTEND;TZID=Europe/Paris:20120226T180000
CATEGORIES:75
LOCATION:Paris
WEBSITE:http://www.deborahwaknine.com
URL:http://www.deborahwaknine.com
CONTACT:0611674430
ORGANIZER;CN="CÃ©line Etcheverry-Mendy":https://epanews.fr/profile/Cel
 ineEtcheverryMendy
ATTACH;FMTTYPE="image/jpeg":http://storage.ning.com/topology/rest/1.0/
 file/get/1662544301?profile=original
ATTENDEE;ROLE=REQ-PARTICIPANT;PARTSTAT=ACCEPTED;RSVP=TRUE;CN="CÃ©line 
 Etcheverry-Mendy":https://epanews.fr/profile/CelineEtcheverryMendy
END:VEVENT
END:VCALENDAR
