BEGIN:VCALENDAR
PRODID:NingEventWidget-v1
VERSION:2.0
METHOD:PUBLISH
BEGIN:VTIMEZONE
TZID:Europe/Paris
X-LIC-LOCATION:Europe/Paris
BEGIN:DAYLIGHT
TZOFFSETFROM:+0100
TZOFFSETTO:+0200
TZNAME:CEST
DTSTART:19700329T020000
RRULE:FREQ=YEARLY;BYMONTH=3;BYDAY=-1SU
END:DAYLIGHT
BEGIN:STANDARD
TZOFFSETFROM:+0200
TZOFFSETTO:+0100
TZNAME:CET
DTSTART:19701025T030000
RRULE:FREQ=YEARLY;BYMONTH=10;BYDAY=-1SU
END:STANDARD
END:VTIMEZONE
BEGIN:VEVENT
UID:2485226:Event:2315364
DTSTAMP:20260421T201854Z
SUMMARY:La glande interstitielle (ovaires ou testicules)
DESCRIPTION:Conférence animé par Francis Messin   Pour Jean Gauthier
  (1891-1968), la Thyroïde est la première à apparaître après seul
 ement 6 à 8 semaines après la conception du fœtus. Cette glande est
  importante pour la sensibilité, la mémoire... La thyroïde qui fonc
 tionne bien, permet aussi d'avoir un meilleur sommeil. Tout le but ser
 a de permettre à celle-ci d'être en équilibre.  Conférence partici
 pation : 5€ Suivie à partir de 21h d'une CozRy avec repas 10€  ME
 RCI DE CONFIRMER votre participation par tél. ou sms Francis Messin -
  Rens. : 06 10 74 76 97  Béatrice - Rens. : 06 95 500 225\n\nPour plu
 s d'information, aller sur https://epanews.fr/events/la-glande-interst
 itielle-ovaires-ou-testicules
DTSTART;TZID=Europe/Paris:20150605T193000
DTEND;TZID=Europe/Paris:20150605T203000
CATEGORIES:83
LOCATION:Le Liber'Thé
WEBSITE:https://www.facebook.com/LeLiberThe/events?ref=page_internal
URL:https://www.facebook.com/LeLiberThe/events?ref=page_internal
CONTACT:0695500225
ORGANIZER:Le Liber'Thé
ATTACH;FMTTYPE="image/jpeg":http://storage.ning.com/topology/rest/1.0/
 file/get/1663390933?profile=original
ATTENDEE;ROLE=REQ-PARTICIPANT;PARTSTAT=ACCEPTED;RSVP=TRUE;CN="Alliance
  Art' & Bien-être":https://epanews.fr/profile/AllianceArtBienetre
END:VEVENT
END:VCALENDAR
