BEGIN:VCALENDAR
PRODID:NingEventWidget-v1
VERSION:2.0
METHOD:PUBLISH
BEGIN:VTIMEZONE
TZID:Europe/Paris
X-LIC-LOCATION:Europe/Paris
BEGIN:DAYLIGHT
TZOFFSETFROM:+0100
TZOFFSETTO:+0200
TZNAME:CEST
DTSTART:19700329T020000
RRULE:FREQ=YEARLY;BYMONTH=3;BYDAY=-1SU
END:DAYLIGHT
BEGIN:STANDARD
TZOFFSETFROM:+0200
TZOFFSETTO:+0100
TZNAME:CET
DTSTART:19701025T030000
RRULE:FREQ=YEARLY;BYMONTH=10;BYDAY=-1SU
END:STANDARD
END:VTIMEZONE
BEGIN:VEVENT
UID:2485226:Event:2374261
DTSTAMP:20260424T032433Z
SUMMARY:La Foire des Gecos
DESCRIPTION:Alimentation saine, circuits-courts, Ã©nergies renouvelabl
 es, rÃ©duction des dÃ©chets, Ã©co-rÃ©novation, Ã©conomie d'Ã©nergie, t
 ransports doux, amÃ©nagement du territoire soutenable, relocalisation 
 de l'Ã©conomie, consommation responsable, finance Ã©thique, mÃ©dias al
 ternatifs, dÃ©fense des biens communs comme l'eau, la terre ou les for
 Ãªts,Â  sensibilisation Ã  l'environnement, citoyennetÃ©, ouverture, s
 olidaritÃ© et partageÂ  ...\nVenez retrouver toutes ces alternatives s
 ur la foire des GECOS, avec de nombreux exposants, des confÃ©rences-dÃ
 ©bat, des ateliers et des activitÃ©s pour les petits et les grands, ai
 nsi que buvettes, restauration sur place et animations de rue.\nContac
 t : lafoiredesgecos.blog4ever.com, 06 27 17 51 80\n\nPour plus d'infor
 mation, aller sur https://epanews.fr/events/la-foire-des-gecos
DTSTART;TZID=Europe/Paris:20150927T000000
DTEND;TZID=Europe/Paris:20150927T235900
CATEGORIES:13
LOCATION:Greasque
WEBSITE:http://lafoiredesgecos.blog4ever.com/
URL:http://lafoiredesgecos.blog4ever.com/
CONTACT:06 27 17 51 80
ORGANIZER;CN=Riou:https://epanews.fr/profile/Riou136
ATTACH;FMTTYPE="image/jpeg":http://storage.ning.com/topology/rest/1.0/
 file/get/1663424006?profile=original
ATTENDEE;ROLE=REQ-PARTICIPANT;PARTSTAT=ACCEPTED;RSVP=TRUE;CN=Riou:http
 s://epanews.fr/profile/Riou136
ATTENDEE;ROLE=REQ-PARTICIPANT;PARTSTAT=TENTATIVE;RSVP=TRUE;CN=chloÃ©:h
 ttps://epanews.fr/profile/chloe
END:VEVENT
END:VCALENDAR
