BEGIN:VCALENDAR
PRODID:NingEventWidget-v1
VERSION:2.0
METHOD:PUBLISH
BEGIN:VTIMEZONE
TZID:Europe/Paris
X-LIC-LOCATION:Europe/Paris
BEGIN:DAYLIGHT
TZOFFSETFROM:+0100
TZOFFSETTO:+0200
TZNAME:CEST
DTSTART:19700329T020000
RRULE:FREQ=YEARLY;BYMONTH=3;BYDAY=-1SU
END:DAYLIGHT
BEGIN:STANDARD
TZOFFSETFROM:+0200
TZOFFSETTO:+0100
TZNAME:CET
DTSTART:19701025T030000
RRULE:FREQ=YEARLY;BYMONTH=10;BYDAY=-1SU
END:STANDARD
END:VTIMEZONE
BEGIN:VEVENT
UID:2485226:Event:1586794
DTSTAMP:20260424T074146Z
SUMMARY:La Femme Initiée
DESCRIPTION:Infos et inscriptions sur : www.tantra-tara.fr\n\nPour plu
 s d'information, aller sur https://epanews.fr/events/la-femme-initi-e
DTSTART;TZID=Europe/Paris:20131130T000000
DTEND;TZID=Europe/Paris:20131130T235900
CATEGORIES:75
LOCATION:Paris ou proche banlieue
WEBSITE:
URL:
CONTACT:
ORGANIZER;CN="Tantric Dating":https://epanews.fr/profile/TantricDating
ATTACH;FMTTYPE="image/jpeg":
ATTENDEE;ROLE=REQ-PARTICIPANT;PARTSTAT=ACCEPTED;RSVP=TRUE;CN="Tantric 
 Dating":https://epanews.fr/profile/TantricDating
END:VEVENT
END:VCALENDAR
