BEGIN:VCALENDAR
PRODID:NingEventWidget-v1
VERSION:2.0
METHOD:PUBLISH
BEGIN:VTIMEZONE
TZID:Europe/Paris
X-LIC-LOCATION:Europe/Paris
BEGIN:DAYLIGHT
TZOFFSETFROM:+0100
TZOFFSETTO:+0200
TZNAME:CEST
DTSTART:19700329T020000
RRULE:FREQ=YEARLY;BYMONTH=3;BYDAY=-1SU
END:DAYLIGHT
BEGIN:STANDARD
TZOFFSETFROM:+0200
TZOFFSETTO:+0100
TZNAME:CET
DTSTART:19701025T030000
RRULE:FREQ=YEARLY;BYMONTH=10;BYDAY=-1SU
END:STANDARD
END:VTIMEZONE
BEGIN:VEVENT
UID:2485226:Event:2212605
DTSTAMP:20260422T134323Z
SUMMARY:La Fête de l'herbe folle
DESCRIPTION:Comme chaque année, la fête de l'herbe folle réunira le
 s participants du café-Psycho de Sanary, ainsi que tou(tes)s les ami(
 e)s, de 14h à 2h du matin. Au programme, des ateliers variés, propos
 és bénévolement par les participants qui en auront l'envie, et qui 
 auront reçu mon aval bien sûr. Par exemple, balade et chi-kong, écr
 iture, tantra provençal, massages variés,mantras, mandalas et cie...
 chacun amène un plat et une boisson, le tout amoureusement préparé 
 avec de l'originalité si possible...le soir, grand buffet sur la terr
 asse et danses multiples...convivialité et chaleur garanties...\n\nPo
 ur plus d'information, aller sur https://epanews.fr/events/la-f-te-de-
 l-herbe-folle-1
DTSTART;TZID=Europe/Paris:20150530T140000
DTEND;TZID=Europe/Paris:20150531T020000
CATEGORIES:83, 13
LOCATION:l'herbe folle
WEBSITE:
URL:
CONTACT:04 94 90 59 01 et 06 15 85 75 62
ORGANIZER;CN="COLLIN gilles":https://epanews.fr/profile/COLLINgilles
ATTACH;FMTTYPE="image/jpeg":
ATTENDEE;ROLE=REQ-PARTICIPANT;PARTSTAT=ACCEPTED;RSVP=TRUE;CN=Sandrine:
 https://epanews.fr/profile/Sandy57
ATTENDEE;ROLE=REQ-PARTICIPANT;PARTSTAT=ACCEPTED;RSVP=TRUE;CN=fito:http
 s://epanews.fr/profile/fito
ATTENDEE;ROLE=REQ-PARTICIPANT;PARTSTAT=ACCEPTED;RSVP=TRUE;CN="Stefano 
 PASSIGATTI":https://epanews.fr/profile/StefanoPASSIGATTI
ATTENDEE;ROLE=REQ-PARTICIPANT;PARTSTAT=ACCEPTED;RSVP=TRUE;CN=michel:ht
 tps://epanews.fr/profile/michel255
ATTENDEE;ROLE=REQ-PARTICIPANT;PARTSTAT=ACCEPTED;RSVP=TRUE;CN="COLLIN g
 illes":https://epanews.fr/profile/COLLINgilles
ATTENDEE;ROLE=REQ-PARTICIPANT;PARTSTAT=TENTATIVE;RSVP=TRUE;CN="THERAPY
  BIEN ETRE":https://epanews.fr/profile/cristalviolet
ATTENDEE;ROLE=REQ-PARTICIPANT;PARTSTAT=TENTATIVE;RSVP=TRUE;CN=chloé:h
 ttps://epanews.fr/profile/chloe
END:VEVENT
END:VCALENDAR
