BEGIN:VCALENDAR
PRODID:NingEventWidget-v1
VERSION:2.0
METHOD:PUBLISH
BEGIN:VTIMEZONE
TZID:Europe/Paris
X-LIC-LOCATION:Europe/Paris
BEGIN:DAYLIGHT
TZOFFSETFROM:+0100
TZOFFSETTO:+0200
TZNAME:CEST
DTSTART:19700329T020000
RRULE:FREQ=YEARLY;BYMONTH=3;BYDAY=-1SU
END:DAYLIGHT
BEGIN:STANDARD
TZOFFSETFROM:+0200
TZOFFSETTO:+0100
TZNAME:CET
DTSTART:19701025T030000
RRULE:FREQ=YEARLY;BYMONTH=10;BYDAY=-1SU
END:STANDARD
END:VTIMEZONE
BEGIN:VEVENT
UID:2485226:Event:2941371
DTSTAMP:20260424T132340Z
SUMMARY:La Diessité au quotidien
DESCRIPTION:Atelier intégral Personocratia\nDé-couvrir \nIntégrer 
 la Conscience de Vérité dans tous les domaines de la vie quotidienne
 , accueillir freins,peurs,blocages ,guérir du passé à l'aide de l'A
 me Individuelle .\n\n\nPour plus d'information, aller sur https://epan
 ews.fr/events/la-diessit-au-quotidien
DTSTART;TZID=Europe/Paris:20180618T090000
DTEND;TZID=Europe/Paris:20180622T170000
CATEGORIES:tous
LOCATION:Angoulême
WEBSITE:http://personocratia.com
URL:http://personocratia.com
CONTACT:06 07 38 06 06
ORGANIZER:Mirentchu
ATTACH;FMTTYPE="image/jpeg":
ATTENDEE;ROLE=REQ-PARTICIPANT;PARTSTAT=ACCEPTED;RSVP=TRUE;CN=anyvone:h
 ttps://epanews.fr/profile/dezell
END:VEVENT
END:VCALENDAR
