BEGIN:VCALENDAR
PRODID:NingEventWidget-v1
VERSION:2.0
METHOD:PUBLISH
BEGIN:VTIMEZONE
TZID:Europe/Paris
X-LIC-LOCATION:Europe/Paris
BEGIN:DAYLIGHT
TZOFFSETFROM:+0100
TZOFFSETTO:+0200
TZNAME:CEST
DTSTART:19700329T020000
RRULE:FREQ=YEARLY;BYMONTH=3;BYDAY=-1SU
END:DAYLIGHT
BEGIN:STANDARD
TZOFFSETFROM:+0200
TZOFFSETTO:+0100
TZNAME:CET
DTSTART:19701025T030000
RRULE:FREQ=YEARLY;BYMONTH=10;BYDAY=-1SU
END:STANDARD
END:VTIMEZONE
BEGIN:VEVENT
UID:2485226:Event:2480288
DTSTAMP:20260421T034304Z
SUMMARY:la danse du moment prÃ©sent
DESCRIPTION:Vendredi 13 Novembre Ã  19h Ã  Toulon\n74 rue Sainte Rose 
 83200 Toulon, chez moi\nÂ \nViens goÃ»ter Ã  lâ€™Ã©ternel instant prÃ©
 sentÂ !\nPar la danse, la respiration et la voix, Â je te propose de t
 e libÃ©rer de lâ€™emprise du mental et te laisser bercer Ã  la plÃ©nit
 ude du prÃ©sent.\nPassionnÃ© par lâ€™ouvre de Eckhart Tolle, je propos
 e chaque mois de danser un chapitre du son Livre Â«Â Nouvelle TerreÂ Â
 ». Ce mois-ci le 3meÂ : Â«Â Au cÅ“ur de lâ€™egoÂ Â», avec des musiques
  du mondeÂ !\nLa seule chose que nous vivons instant aprÃ¨s instant câ
 €™est ce moment-ciÂ !Â \nViens oublier la souffrance du passÃ©e et lâ€
 ™anxiÃ©tÃ© du futur, et accueillir tout ce qui est lÃ , sans jugementÂ
  ! SÃ©ance dâ€™une heure 30 environ.\nActivitÃ© avecÂ participation au
  chapeau.\nstegatti@aliceadsl.fr\nTu peux me retrouver sur FacebookÂ :
 \nwww.facebook.com/Stefano.Moment.present?\nÂ \nPour les personnes qui
  le dÃ©sirent, Ã  la fin de la sÃ©ance nous allons partager un repas c
 onvivial, avec ce que nous aurons apportÃ©!\nÂ \nPour plus d'informati
 on: Stefano au 06.23.05.43.70\n\nPour plus d'information, aller sur ht
 tps://epanews.fr/events/la-danse-du-moment-pr-sent-3
DTSTART;TZID=Europe/Paris:20151113T190000
DTEND;TZID=Europe/Paris:20151113T210000
CATEGORIES:83
LOCATION:Chez Moi
WEBSITE:https://www.google.fr/maps/place/74+Rue+Sainte-Rose,+83200+Tou
 lon/@43.1341511,5.920511,17z/data=!3m1!4b1!4m2!3m1!1s0x12c91b1f42d39bd
 d:0xca22c88b46d6fa33
URL:https://www.google.fr/maps/place/74+Rue+Sainte-Rose,+83200+Toulon/
 @43.1341511,5.920511,17z/data=!3m1!4b1!4m2!3m1!1s0x12c91b1f42d39bdd:0x
 ca22c88b46d6fa33
CONTACT:06.23.05.43.70
ORGANIZER;CN="Stefano PASSIGATTI":https://epanews.fr/profile/StefanoPA
 SSIGATTI
ATTACH;FMTTYPE="image/jpeg":http://storage.ning.com/topology/rest/1.0/
 file/get/1663443485?profile=original
ATTENDEE;ROLE=REQ-PARTICIPANT;PARTSTAT=ACCEPTED;RSVP=TRUE;CN="Stefano 
 PASSIGATTI":https://epanews.fr/profile/StefanoPASSIGATTI
END:VEVENT
END:VCALENDAR
