BEGIN:VCALENDAR
PRODID:NingEventWidget-v1
VERSION:2.0
METHOD:PUBLISH
BEGIN:VTIMEZONE
TZID:Europe/Paris
X-LIC-LOCATION:Europe/Paris
BEGIN:DAYLIGHT
TZOFFSETFROM:+0100
TZOFFSETTO:+0200
TZNAME:CEST
DTSTART:19700329T020000
RRULE:FREQ=YEARLY;BYMONTH=3;BYDAY=-1SU
END:DAYLIGHT
BEGIN:STANDARD
TZOFFSETFROM:+0200
TZOFFSETTO:+0100
TZNAME:CET
DTSTART:19701025T030000
RRULE:FREQ=YEARLY;BYMONTH=10;BYDAY=-1SU
END:STANDARD
END:VTIMEZONE
BEGIN:VEVENT
UID:2485226:Event:2068687
DTSTAMP:20260423T213803Z
SUMMARY:La défaite du matérialisme et le Nouvel Age
DESCRIPTION:La marchandisation effrénée des biens de la planète n'a
  eue de cesse de creuser les inégalités : comment pouvons nous suppo
 rter que des enfants meurent de faim en si grand nombre de nos jours d
 ans un monde d'abondance ?Fort heureusement, de nombreux groupes lutte
 nt pour remettre les valeurs spirituelles universelles au cœur de not
 re société.Vont-ils vaincre ce matérialisme croissant qui nous mèn
 e sur la voie du chaos ?\nPourtant, un Nouvel Age qui assure la sécur
 ité et le bien-être de tous est possible.\nNous verrons les étapes 
 qui ont marquées cette lutte millénaire entre le matérialisme et le
 s valeurs spirituelles, et comment Nos Frères Ainés, les Maîtres de
  Sagesse envisagent l'issue de ce combat.\n\nPour plus d'information, 
 aller sur https://epanews.fr/events/la-d-faite-du-mat-rialisme-et-le-n
 ouvel-age
DTSTART;TZID=Europe/Paris:20141120T203000
DTEND;TZID=Europe/Paris:20141120T220000
CATEGORIES:75
LOCATION:Internet
WEBSITE:
URL:
CONTACT:
ORGANIZER;CN="Amis de Partage International":https://epanews.fr/profil
 e/AmisdePartageInternational
ATTACH;FMTTYPE="image/jpeg":
ATTENDEE;ROLE=REQ-PARTICIPANT;PARTSTAT=ACCEPTED;RSVP=TRUE;CN="Amis de 
 Partage International":https://epanews.fr/profile/AmisdePartageInterna
 tional
END:VEVENT
END:VCALENDAR
