BEGIN:VCALENDAR
PRODID:NingEventWidget-v1
VERSION:2.0
METHOD:PUBLISH
BEGIN:VTIMEZONE
TZID:Europe/Paris
X-LIC-LOCATION:Europe/Paris
BEGIN:DAYLIGHT
TZOFFSETFROM:+0100
TZOFFSETTO:+0200
TZNAME:CEST
DTSTART:19700329T020000
RRULE:FREQ=YEARLY;BYMONTH=3;BYDAY=-1SU
END:DAYLIGHT
BEGIN:STANDARD
TZOFFSETFROM:+0200
TZOFFSETTO:+0100
TZNAME:CET
DTSTART:19701025T030000
RRULE:FREQ=YEARLY;BYMONTH=10;BYDAY=-1SU
END:STANDARD
END:VTIMEZONE
BEGIN:VEVENT
UID:2485226:Event:2735443
DTSTAMP:20260423T014129Z
SUMMARY:à la découverte de la sophrologie
DESCRIPTION:Ressourcez-vous, Consacrez-vous du temps !\nSophrologie & 
 Relaxation Énergétique\n\nPrésentation et Découverte gratuite de l
 a sophrologie\nle 8 novembre sur réservation\nCabinet Energie Vitale 
 - Champagnole\n\nUn lien...dans la vie de tous les jours\nBien-être, 
 Sensations, Équilibre, Pensées positives, Créativités, Préventio
 n,Confiance et Estime de soi, Gestion des émotions, Stress, Gestion 
 de la douleur, Aide aux addictions, Préparation aux examens, Accompa
 gnement de la personne... \n\nChristèle Breniaux - Sophrologue/Relat
 ion d'être\nEn Prévention, Contrôle du stress et Développement per
 sonnel, Sens'Eveil, Déliance, Harmonisation Sensorielle\n\nPour plus 
 d'information, aller sur https://epanews.fr/events/la-d-couverte-de-la
 -sophrologie
DTSTART;TZID=Europe/Paris:20161108T120000
DTEND;TZID=Europe/Paris:20161108T190000
CATEGORIES:39
LOCATION:CHAMPAGNOLE - Cabinet Energie Vitale
WEBSITE:http://www.splsophrologie.sitew.com
URL:http://www.splsophrologie.sitew.com
CONTACT:0679999048
ORGANIZER;CN="Christèle BRENIAUX":https://epanews.fr/profile/SPLSophr
 ologie
ATTACH;FMTTYPE="image/jpeg":http://storage.ning.com/topology/rest/1.0/
 file/get/1663618687?profile=original
ATTENDEE;ROLE=REQ-PARTICIPANT;PARTSTAT=ACCEPTED;RSVP=TRUE;CN="Christè
 le BRENIAUX":https://epanews.fr/profile/SPLSophrologie
END:VEVENT
END:VCALENDAR
