BEGIN:VCALENDAR
PRODID:NingEventWidget-v1
VERSION:2.0
METHOD:PUBLISH
BEGIN:VTIMEZONE
TZID:Europe/Paris
X-LIC-LOCATION:Europe/Paris
BEGIN:DAYLIGHT
TZOFFSETFROM:+0100
TZOFFSETTO:+0200
TZNAME:CEST
DTSTART:19700329T020000
RRULE:FREQ=YEARLY;BYMONTH=3;BYDAY=-1SU
END:DAYLIGHT
BEGIN:STANDARD
TZOFFSETFROM:+0200
TZOFFSETTO:+0100
TZNAME:CET
DTSTART:19701025T030000
RRULE:FREQ=YEARLY;BYMONTH=10;BYDAY=-1SU
END:STANDARD
END:VTIMEZONE
BEGIN:VEVENT
UID:2485226:Event:2052696
DTSTAMP:20260426T035007Z
SUMMARY:La culpabilitÃ©
DESCRIPTION:Une confÃ©rence avec le trÃ¨s pertinent StÃ©phane PEREZ :\
 nÂ \nÂ \nLa culpabilitÃ©\nÂ \nUn sentiment puissant et profond\nÂ \nRe
 prÃ©sentÃ©e dans la mythologie grecque par le Dieu Â«HadÃ¨sÂ», prince 
 des morts, la culpabilitÃ© est un sentiment extrÃªmement puissant, trÃ
 ¨s prÃ©sent et souvent cachÃ©.Cette confÃ©rence menÃ©e par StÃ©phane P
 EREZ, ostÃ©opathe D.O., kinÃ©siologue et acupuncteur, nous propose une
  vision originale et pertinente de ce schÃ©ma dâ€™Ã©nergie en nous.Lor
 s de cette soirÃ©e StÃ©phane aborde cet archÃ©type intÃ©rieur : ses or
 igines, ses fonctions, ses dÃ©viances ainsi que les impacts physiologi
 ques et psychiques quâ€™il peut entrainer.DiffÃ©rentes approches et Ã©
 tapes sont proposÃ©es pour apprivoiser ce Â« critique intÃ©rieur Â» en
  nous afin dâ€™en faire un alliÃ© plutÃ´t quâ€™un ennemi. Ainsi mis en
  conscience, nous devenons plus Ã  mÃªme Ã  dÃ©velopper notre estime p
 ropre, nous devenons plus audacieux et ouverts Ã  notre Ã©volution, pl
 us libres dans notre vie pour partager, aimer et Ãªtre aimÃ©. Durant l
 a soirÃ©e, quelques exercices pratiques sont proposÃ©s.\n\nÂ \nÂ Â  to
 utes les infos iciÂ Â \nÂ \nConfÃ©rence publique ouverte Ã  tous sans 
 inscription | 10 â‚¬\n\nPour plus d'information, aller sur https://epa
 news.fr/events/la-culpabilit
DTSTART;TZID=Europe/Paris:20141021T194500
DTEND;TZID=Europe/Paris:20141021T220000
CATEGORIES:34
LOCATION:Montpellier - Centre Lacordaire
WEBSITE:http://www.happyplanete.org/evenement-359-la-culpabilite.html
URL:http://www.happyplanete.org/evenement-359-la-culpabilite.html
CONTACT:
ORGANIZER;CN="Franck Dagorn":https://epanews.fr/profile/FranckDagorn
ATTACH;FMTTYPE="image/jpeg":http://storage.ning.com/topology/rest/1.0/
 file/get/1663212955?profile=original
ATTENDEE;ROLE=REQ-PARTICIPANT;PARTSTAT=ACCEPTED;RSVP=TRUE;CN="Franck D
 agorn":https://epanews.fr/profile/FranckDagorn
END:VEVENT
END:VCALENDAR
