BEGIN:VCALENDAR
PRODID:NingEventWidget-v1
VERSION:2.0
METHOD:PUBLISH
BEGIN:VTIMEZONE
TZID:Europe/Paris
X-LIC-LOCATION:Europe/Paris
BEGIN:DAYLIGHT
TZOFFSETFROM:+0100
TZOFFSETTO:+0200
TZNAME:CEST
DTSTART:19700329T020000
RRULE:FREQ=YEARLY;BYMONTH=3;BYDAY=-1SU
END:DAYLIGHT
BEGIN:STANDARD
TZOFFSETFROM:+0200
TZOFFSETTO:+0100
TZNAME:CET
DTSTART:19701025T030000
RRULE:FREQ=YEARLY;BYMONTH=10;BYDAY=-1SU
END:STANDARD
END:VTIMEZONE
BEGIN:VEVENT
UID:2485226:Event:700464
DTSTAMP:20260422T134043Z
SUMMARY:La Communication Consciente - atelier d'introduction
DESCRIPTION:Pourquoi certains mots, expressions vous rapprochent de vo
 tre interlocuteur alors que dâ€™autres vous en Ã©loignent ? Comment mâ
 €™exprimer pour donner envie Ã  lâ€™autre de mâ€™Ã©couter ? Pourquoi a
 pprendre Ã  mâ€™Ã©couter est essentiel pour mieux mâ€™exprimer ? Quâ€™
 entendre derriÃ¨re un jugement afin de ne rien prendre contre moi ? Po
 urquoi les relations avec ses proches sont si fragiles ?\nBasÃ© avant 
 tout sur la Communication NonViolente (CNV), cet atelier vous donnera 
 des clÃ©s de comprÃ©hension pour mieux vous relier Ã  votre Ãªtre et c
 hanger votre regard sur les actions des autres.\n\nPour plus d'informa
 tion, aller sur https://epanews.fr/events/la-communication-consciente-
 atelier-d-introduction
DTSTART;TZID=Europe/Paris:20120316T093000
DTEND;TZID=Europe/Paris:20120317T170000
CATEGORIES:suisse
LOCATION:Montreux
WEBSITE:
URL:
CONTACT:+41 78 827 09 06
ORGANIZER;CN=Christian:https://epanews.fr/profile/Christian725
ATTACH;FMTTYPE="image/jpeg":http://storage.ning.com/topology/rest/1.0/
 file/get/1662556539?profile=original
ATTENDEE;ROLE=REQ-PARTICIPANT;PARTSTAT=ACCEPTED;RSVP=TRUE;CN=Christian
 :https://epanews.fr/profile/Christian725
END:VEVENT
END:VCALENDAR
