BEGIN:VCALENDAR
PRODID:NingEventWidget-v1
VERSION:2.0
METHOD:PUBLISH
BEGIN:VTIMEZONE
TZID:Europe/Paris
X-LIC-LOCATION:Europe/Paris
BEGIN:DAYLIGHT
TZOFFSETFROM:+0100
TZOFFSETTO:+0200
TZNAME:CEST
DTSTART:19700329T020000
RRULE:FREQ=YEARLY;BYMONTH=3;BYDAY=-1SU
END:DAYLIGHT
BEGIN:STANDARD
TZOFFSETFROM:+0200
TZOFFSETTO:+0100
TZNAME:CET
DTSTART:19701025T030000
RRULE:FREQ=YEARLY;BYMONTH=10;BYDAY=-1SU
END:STANDARD
END:VTIMEZONE
BEGIN:VEVENT
UID:2485226:Event:2408987
DTSTAMP:20260421T210033Z
SUMMARY:La Communication Bienveillante - Formations Professionnelles Ă
   Caen
DESCRIPTION:- Dans la relation adulte/enfant GĂ©rer les conflits, Pose
 r des limites, Accueillir les Ă©motions de lâ€™enfant, Respecter mes b
 esoins. (Educateurs, Enseignants, Animateurs, Auxiliaire de PuĂ©ricult
 ure, Assistante Maternelleâ€¦) 16 et 17 novembre 2015 OU 7 et 8 avril 
 2016\n - Dans la relation adulte/adulte Valoriser le professionnel qui
  est en face de moi, Accompagner les familles, Nommer mes observations
  et mes inquiĂ©tudes sans jugement. (Animatrice RAM, Travailleurs Soci
 aux, Psychologue, Directeur de structure, â€¦) 14 et 15 Janvier 2016 O
 U 12 et 13 mai 2016 Outils ludiques, prises de conscience, rĂ©flexions
  sur nos habitudes de fonctionnement, questionnements autour de notre 
 positionnement professionnel, interrogations sur nos Ă©motions face Ă 
  des situations dĂ©licates, mises en situation concrĂ¨tes vous seront 
 proposĂ©s.\n CĂ©line Faujour - Educatrice SpĂ©cialisĂ©e Formatrice en 
 Communication Bienveillante - 06 01 93 97 29 celine.faujour@gmail.com 
 www.celinefaujour.com\n\nPour plus d'information, aller sur https://ep
 anews.fr/events/la-communication-bienveillante-formations-professionne
 lles-caen
DTSTART;TZID=Europe/Paris:20151116T090000
DTEND;TZID=Europe/Paris:20151117T180000
CATEGORIES:14
LOCATION:CAEN - CALVADOS
WEBSITE:http://celinefaujour.com/category/formation-professionnelle/
URL:http://celinefaujour.com/category/formation-professionnelle/
CONTACT:0601939729
ORGANIZER;CN=Faujour:https://epanews.fr/profile/Faujour
ATTACH;FMTTYPE="image/jpeg":http://storage.ning.com/topology/rest/1.0/
 file/get/1663441766?profile=original
ATTENDEE;ROLE=REQ-PARTICIPANT;PARTSTAT=ACCEPTED;RSVP=TRUE;CN=Faujour:h
 ttps://epanews.fr/profile/Faujour
END:VEVENT
END:VCALENDAR
