BEGIN:VCALENDAR
PRODID:NingEventWidget-v1
VERSION:2.0
METHOD:PUBLISH
BEGIN:VTIMEZONE
TZID:Europe/Paris
X-LIC-LOCATION:Europe/Paris
BEGIN:DAYLIGHT
TZOFFSETFROM:+0100
TZOFFSETTO:+0200
TZNAME:CEST
DTSTART:19700329T020000
RRULE:FREQ=YEARLY;BYMONTH=3;BYDAY=-1SU
END:DAYLIGHT
BEGIN:STANDARD
TZOFFSETFROM:+0200
TZOFFSETTO:+0100
TZNAME:CET
DTSTART:19701025T030000
RRULE:FREQ=YEARLY;BYMONTH=10;BYDAY=-1SU
END:STANDARD
END:VTIMEZONE
BEGIN:VEVENT
UID:2485226:Event:2221129
DTSTAMP:20260423T190854Z
SUMMARY:L'évolution et l'élan spirituel
DESCRIPTION:Vendredi 10 avril de 14 h 00 à 16 h 30 - Conférence\nLe 
 jardin des rêves\nL'évolution ou l'élan spirituel\n\nPour plus d'in
 formation, aller sur https://epanews.fr/events/l-volution-et-l-lan-spi
 rituel
DTSTART;TZID=Europe/Paris:20150410T140000
DTEND;TZID=Europe/Paris:20150410T163000
CATEGORIES:95
LOCATION:95330 Domont
WEBSITE:
URL:
CONTACT:
ORGANIZER;CN="Amis de Partage International":https://epanews.fr/profil
 e/AmisdePartageInternational
ATTACH;FMTTYPE="image/jpeg":http://storage.ning.com/topology/rest/1.0/
 file/get/1663320937?profile=original
ATTENDEE;ROLE=REQ-PARTICIPANT;PARTSTAT=ACCEPTED;RSVP=TRUE;CN="Amis de 
 Partage International":https://epanews.fr/profile/AmisdePartageInterna
 tional
ATTENDEE;ROLE=REQ-PARTICIPANT;PARTSTAT=TENTATIVE;RSVP=TRUE;CN=poupous:
 https://epanews.fr/profile/poupous
END:VEVENT
END:VCALENDAR
