BEGIN:VCALENDAR
PRODID:NingEventWidget-v1
VERSION:2.0
METHOD:PUBLISH
BEGIN:VTIMEZONE
TZID:Europe/Paris
X-LIC-LOCATION:Europe/Paris
BEGIN:DAYLIGHT
TZOFFSETFROM:+0100
TZOFFSETTO:+0200
TZNAME:CEST
DTSTART:19700329T020000
RRULE:FREQ=YEARLY;BYMONTH=3;BYDAY=-1SU
END:DAYLIGHT
BEGIN:STANDARD
TZOFFSETFROM:+0200
TZOFFSETTO:+0100
TZNAME:CET
DTSTART:19701025T030000
RRULE:FREQ=YEARLY;BYMONTH=10;BYDAY=-1SU
END:STANDARD
END:VTIMEZONE
BEGIN:VEVENT
UID:2485226:Event:646857
DTSTAMP:20260422T061232Z
SUMMARY:L ÃŠtre InitiÃ©
DESCRIPTION:Stage \"De L'homme sacrÃ© Ã  L'homme divin,de la femme sac
 rÃ©e a la femme divine\"\nLe cheminement de lâ€™Ã‚me Au fil des vies e
 t des incarnations, en tant quâ€™Hommes et Femmes, nous avons accumulÃ
 ©s des blessures, filtrant notre perception des deux polaritÃ©s. Conse
 ntir Ã  Honorer nos parts FÃ©minines et Masculines. Ces polaritÃ©s ent
 iÃ¨res et unies, NOUS SOMMES. Nous accÃ©dons Ã  notre grandeur et Ã  n
 otre profondeur. Lâ€™Alchimie est rÃ©alisÃ©e, nos projets se concrÃ©ti
 sent, le Sens et la magie habitent nos rÃ©alisations.\nLa Naissance dâ
 €™une Ã¨re Nouvelle Porteurs dâ€™Amour et de reconnaissance pour lâ€™Ã
 Štre que nous sommes, nous sommes capables de Rencontrer lâ€™Autre, de
  sâ€™unir Ã  des projets plus grands que les nÃ´tres, de fondre nos rÃ
 ©alisations personnelles dans un projet de Co-CrÃ©ation, favorisant la
  naissance dâ€™une Ã¨re Nouvelle.\nOserez-vous Ãªtre de ceux lÃ  ?â€¦ 
 Les Aventuriers de lâ€™ÃŠtre. Â»\nprix du stage 1200 â‚¬, logement et 
 repas non inclus\nl'Etre InitiÃ©\n\nPour plus d'information, aller sur
  https://epanews.fr/events/l-tre-initi-je-suis-ce-que-je-suis
DTSTART;TZID=Europe/Paris:20120218T000000
DTEND;TZID=Europe/Paris:20120224T235900
CATEGORIES:04
LOCATION:Hameau St AndrÃ© de Villeseche
WEBSITE:
URL:
CONTACT:0686607101
ORGANIZER:Marie-Christine Chambon, Claude L'heureux
ATTACH;FMTTYPE="image/jpeg":
ATTENDEE;ROLE=REQ-PARTICIPANT;PARTSTAT=ACCEPTED;RSVP=TRUE;CN="Claude L
 heureux":https://epanews.fr/profile/ClaudeLheureux
END:VEVENT
END:VCALENDAR
