BEGIN:VCALENDAR
PRODID:NingEventWidget-v1
VERSION:2.0
METHOD:PUBLISH
BEGIN:VTIMEZONE
TZID:Europe/Paris
X-LIC-LOCATION:Europe/Paris
BEGIN:DAYLIGHT
TZOFFSETFROM:+0100
TZOFFSETTO:+0200
TZNAME:CEST
DTSTART:19700329T020000
RRULE:FREQ=YEARLY;BYMONTH=3;BYDAY=-1SU
END:DAYLIGHT
BEGIN:STANDARD
TZOFFSETFROM:+0200
TZOFFSETTO:+0100
TZNAME:CET
DTSTART:19701025T030000
RRULE:FREQ=YEARLY;BYMONTH=10;BYDAY=-1SU
END:STANDARD
END:VTIMEZONE
BEGIN:VEVENT
UID:2485226:Event:2119510
DTSTAMP:20260425T043750Z
SUMMARY:SoirÃ©e: L'Astrophysique facile et poÃ©tique
DESCRIPTION:Â Â  le samedi 13 DÃ©cembre 2014\nÂ  Â  Â  Â  Â  Â  Â Â  Ã
   19h30Â \nVous Ãªtes conviÃ©s Ã  une merveilleuse soirÃ©e qui a pour 
 thÃ¨me: \n\nÂ L'origine du monde, des Ã©toiles, de la vie...Â \nexposÃ
 ©e par Gilles GrÃ©goire, passionnÃ© de connaissances enÂ  Astrophysiqu
 e et capable de nous les partager de maniÃ¨re simple, nousÂ  Ã©merveil
 ler, nous faire rÃªver.\nC'est une soirÃ©e science Ã  la portÃ©e de to
 us pour mieux comprendre notre monde et dÃ©couvrir la poÃ©sie qui se c
 ache derriÃ¨re les sciences.\nPuis nous partagerons un repas avec ce q
 ue chacun aura apportÃ© de salÃ©-sucrÃ© et boissons.\nÂ Programme:\n19
 h30: Accueil\n20h: exposÃ© et discussions ouvertes sur le thÃ¨me abord
 Ã©, ce qu'il nous inspire, ses implications sur notre prÃ©sent et notr
 e avenir...\n21h30: repas, convivialitÃ© et Ã©changes spontanÃ©s (cont
 es, musique ou toute autre proposition\n\nPour plus d'information, all
 er sur https://epanews.fr/events/l-origine-du-monde-des-toiles-de-la-v
 ie
DTSTART;TZID=Europe/Paris:20141213T193000
DTEND;TZID=Europe/Paris:20141213T233000
CATEGORIES:94, 75
LOCATION:Chez Evelyne Ã  Montreuil
WEBSITE:
URL:
CONTACT:0620403202/ 0663954874
ORGANIZER;CN=Evelyne:https://epanews.fr/profile/EveR
ATTACH;FMTTYPE="image/jpeg":
ATTENDEE;ROLE=REQ-PARTICIPANT;PARTSTAT=ACCEPTED;RSVP=TRUE;CN=Evelyne:h
 ttps://epanews.fr/profile/EveR
END:VEVENT
END:VCALENDAR
