BEGIN:VCALENDAR
PRODID:NingEventWidget-v1
VERSION:2.0
METHOD:PUBLISH
BEGIN:VTIMEZONE
TZID:Europe/Paris
X-LIC-LOCATION:Europe/Paris
BEGIN:DAYLIGHT
TZOFFSETFROM:+0100
TZOFFSETTO:+0200
TZNAME:CEST
DTSTART:19700329T020000
RRULE:FREQ=YEARLY;BYMONTH=3;BYDAY=-1SU
END:DAYLIGHT
BEGIN:STANDARD
TZOFFSETFROM:+0200
TZOFFSETTO:+0100
TZNAME:CET
DTSTART:19701025T030000
RRULE:FREQ=YEARLY;BYMONTH=10;BYDAY=-1SU
END:STANDARD
END:VTIMEZONE
BEGIN:VEVENT
UID:2485226:Event:481044
DTSTAMP:20260422T184629Z
SUMMARY:Conférence : L'énergie vitale et la Psychologie Biodynamique
DESCRIPTION:Stress, démotivation, épuisement, colère rentrée ou au
  contraire trop exprimée... quand l'énergie vitale est déviée de s
 on parcours naturel, tout se dérègle. La Psychologie Biodynamique pr
 opose une chemin entre parole et travail corporel, vers notre être es
 sentiel, siège de notre énergie profonde et transformatrice.\n \nPa
 r Catherine Maupu Morel pour l'Ecole Biodynamique\nEntrée : 5 euros\n
 \nPour plus d'information, aller sur https://epanews.fr/events/l-nergi
 e-vitale-et-la-psychologie-biodynamique
DTSTART;TZID=Europe/Paris:20110919T183000
DTEND;TZID=Europe/Paris:20110919T200000
CATEGORIES:08
LOCATION:Charleville Mezière
WEBSITE:
URL:
CONTACT:04 67 00 40 50
ORGANIZER;CN="Ecole Biodynamique":https://epanews.fr/profile/EcoleBiod
 ynamique
ATTACH;FMTTYPE="image/jpeg":http://storage.ning.com/topology/rest/1.0/
 file/get/1662449185?profile=original
ATTENDEE;ROLE=REQ-PARTICIPANT;PARTSTAT=ACCEPTED;RSVP=TRUE;CN="Ecole Bi
 odynamique":https://epanews.fr/profile/EcoleBiodynamique
END:VEVENT
END:VCALENDAR
