BEGIN:VCALENDAR
PRODID:NingEventWidget-v1
VERSION:2.0
METHOD:PUBLISH
BEGIN:VTIMEZONE
TZID:Europe/Paris
X-LIC-LOCATION:Europe/Paris
BEGIN:DAYLIGHT
TZOFFSETFROM:+0100
TZOFFSETTO:+0200
TZNAME:CEST
DTSTART:19700329T020000
RRULE:FREQ=YEARLY;BYMONTH=3;BYDAY=-1SU
END:DAYLIGHT
BEGIN:STANDARD
TZOFFSETFROM:+0200
TZOFFSETTO:+0100
TZNAME:CET
DTSTART:19701025T030000
RRULE:FREQ=YEARLY;BYMONTH=10;BYDAY=-1SU
END:STANDARD
END:VTIMEZONE
BEGIN:VEVENT
UID:2485226:Event:2221243
DTSTAMP:20260423T002518Z
SUMMARY:L'âme et l'immortalité
DESCRIPTION:Vendredi 12 juin de 14 h 00 à 16 h 30 - Conférence\nLe j
 ardin des rêves\nL'âme et l'immortalité : qu'est-ce qu'une décorpo
 ration et une E.M.I.?\n\nPour plus d'information, aller sur https://ep
 anews.fr/events/l-me-et-l-immortalit-1
DTSTART;TZID=Europe/Paris:20150612T140000
DTEND;TZID=Europe/Paris:20150612T170000
CATEGORIES:95
LOCATION:95330 Domont
WEBSITE:
URL:
CONTACT:
ORGANIZER;CN="Amis de Partage International":https://epanews.fr/profil
 e/AmisdePartageInternational
ATTACH;FMTTYPE="image/jpeg":http://storage.ning.com/topology/rest/1.0/
 file/get/1663321205?profile=original
ATTENDEE;ROLE=REQ-PARTICIPANT;PARTSTAT=ACCEPTED;RSVP=TRUE;CN=poupous:h
 ttps://epanews.fr/profile/poupous
ATTENDEE;ROLE=REQ-PARTICIPANT;PARTSTAT=ACCEPTED;RSVP=TRUE;CN="Amis de 
 Partage International":https://epanews.fr/profile/AmisdePartageInterna
 tional
END:VEVENT
END:VCALENDAR
