BEGIN:VCALENDAR
PRODID:NingEventWidget-v1
VERSION:2.0
METHOD:PUBLISH
BEGIN:VTIMEZONE
TZID:Europe/Paris
X-LIC-LOCATION:Europe/Paris
BEGIN:DAYLIGHT
TZOFFSETFROM:+0100
TZOFFSETTO:+0200
TZNAME:CEST
DTSTART:19700329T020000
RRULE:FREQ=YEARLY;BYMONTH=3;BYDAY=-1SU
END:DAYLIGHT
BEGIN:STANDARD
TZOFFSETFROM:+0200
TZOFFSETTO:+0100
TZNAME:CET
DTSTART:19701025T030000
RRULE:FREQ=YEARLY;BYMONTH=10;BYDAY=-1SU
END:STANDARD
END:VTIMEZONE
BEGIN:VEVENT
UID:2485226:Event:1040950
DTSTAMP:20260424T013538Z
SUMMARY:L'intelligence émotionnelle pour apprivoiser nos peurs
DESCRIPTION:Peur de la fin du monde, de l'inconnu, peur de l'inconscie
 nt et des émotions,... nos schémas réactionnels alimentés par des 
 années de conditionnement, se dressent comme une armée de boucliers 
 face à nos peurs \"psychiques\". \nNous évoquerons l'actualité ast
 rologique pour l'illustrer.\nNous proposerons une approche symbolique 
 liant les trois niveaux physique, psychique et spirituel, pour apprend
 re à apprivoiser nos peurs émotionnelles\n \nau Resto Les Amis de G
 eorges, 19 Pl Gouffé\nEntrée 8 € ou 4 € (adhérent au Réseau Re
 sto)\nAnimée par Dominique\ncréatrice des ateliers de Constellations
  Planétaires\n\nPour plus d'information, aller sur https://epanews.fr
 /events/l-intelligence-motionnelle-pour-apprivoiser-nos-peurs
DTSTART;TZID=Europe/Paris:20121129T190000
DTEND;TZID=Europe/Paris:20121129T210000
CATEGORIES:13
LOCATION:Marseille 5è, France
WEBSITE:http://www.reseau-sante13.fr/activite.php?type=1
URL:http://www.reseau-sante13.fr/activite.php?type=1
CONTACT:06 89 09 76 95
ORGANIZER;CN=dominique:https://epanews.fr/profile/domi
ATTACH;FMTTYPE="image/jpeg":http://storage.ning.com/topology/rest/1.0/
 file/get/1662702903?profile=original
ATTENDEE;ROLE=REQ-PARTICIPANT;PARTSTAT=ACCEPTED;RSVP=TRUE;CN=dominique
 :https://epanews.fr/profile/domi
END:VEVENT
END:VCALENDAR
