BEGIN:VCALENDAR
PRODID:NingEventWidget-v1
VERSION:2.0
METHOD:PUBLISH
BEGIN:VTIMEZONE
TZID:Europe/Paris
X-LIC-LOCATION:Europe/Paris
BEGIN:DAYLIGHT
TZOFFSETFROM:+0100
TZOFFSETTO:+0200
TZNAME:CEST
DTSTART:19700329T020000
RRULE:FREQ=YEARLY;BYMONTH=3;BYDAY=-1SU
END:DAYLIGHT
BEGIN:STANDARD
TZOFFSETFROM:+0200
TZOFFSETTO:+0100
TZNAME:CET
DTSTART:19701025T030000
RRULE:FREQ=YEARLY;BYMONTH=10;BYDAY=-1SU
END:STANDARD
END:VTIMEZONE
BEGIN:VEVENT
UID:2485226:Event:1131621
DTSTAMP:20260423T075432Z
SUMMARY:L'homme dans sa dimension universelle
DESCRIPTION:Vendredi 01 Février 2013  à 20h - TOULON, Foyer de la
  Jeunesse 11 place d'Armes\nL'homme dans sa dimension universelle\nNou
 s vivons et respirons dans un champ individuel qui nous est propre. Da
 ns ce champ se trouve non seulement tout ce qui émane de nos désirs 
 et de nos pensées, mais également toutes les possibilités d'une nou
 velle vie.\nEntée libre et gratuite Fin prévue de cet évènement : 
 21:30\n\nPour plus d'information, aller sur https://epanews.fr/events/
 l-homme-dans-sa-dimension-universelle
DTSTART;TZID=Europe/Paris:20130201T200000
DTEND;TZID=Europe/Paris:20130201T220000
CATEGORIES:83
LOCATION:TOULON
WEBSITE:http://toulon-nice.rose-croix-d-or.org/
URL:http://toulon-nice.rose-croix-d-or.org/
CONTACT:
ORGANIZER:ROSE CROIX D'OR
ATTACH;FMTTYPE="image/jpeg":http://storage.ning.com/topology/rest/1.0/
 file/get/1662740550?profile=original
ATTENDEE;ROLE=REQ-PARTICIPANT;PARTSTAT=ACCEPTED;RSVP=TRUE;CN="jean cla
 ude":https://epanews.fr/profile/Adamowski
END:VEVENT
END:VCALENDAR
