BEGIN:VCALENDAR
PRODID:NingEventWidget-v1
VERSION:2.0
METHOD:PUBLISH
BEGIN:VTIMEZONE
TZID:Europe/Paris
X-LIC-LOCATION:Europe/Paris
BEGIN:DAYLIGHT
TZOFFSETFROM:+0100
TZOFFSETTO:+0200
TZNAME:CEST
DTSTART:19700329T020000
RRULE:FREQ=YEARLY;BYMONTH=3;BYDAY=-1SU
END:DAYLIGHT
BEGIN:STANDARD
TZOFFSETFROM:+0200
TZOFFSETTO:+0100
TZNAME:CET
DTSTART:19701025T030000
RRULE:FREQ=YEARLY;BYMONTH=10;BYDAY=-1SU
END:STANDARD
END:VTIMEZONE
BEGIN:VEVENT
UID:2485226:Event:2119005
DTSTAMP:20260423T120730Z
SUMMARY:L'herbe folle: mes atouts pour séduire
DESCRIPTION:Dans le cadre des mardis de l'herbe folle, voici un atelie
 r: Mes atouts pour séduire. Il s'agira d'une part de travailler sur l
 es points qui nous bloquent, puis de se réparer en acceptant d'\"ente
 ndre\" les regards des autres participants. le but; acquérir de la co
 nfiance en soi pour mieux séduire...cet atelier est la suite logique 
 du café-psycho de novembre. De 19h30 à 21h15 au Beausset. (83). Part
 icipation: 20 euros. Me téléphoner pour inscription. Animation: Gill
 es Collin Psychologue. \nLe mardi 2/12: rebirth, et le mardi 9/12: Ti
 pi et EFT Bises, à, bientôt. Gilles\n\nPour plus d'information, alle
 r sur https://epanews.fr/events/l-herbe-folle-mes-atouts-pour-s-duire
DTSTART;TZID=Europe/Paris:20141125T193000
DTEND;TZID=Europe/Paris:20141125T211500
CATEGORIES:".83"
LOCATION:Le Beausset 83330
WEBSITE:
URL:
CONTACT:04 94 90 59 01 et 06 15 85 75 62
ORGANIZER;CN="COLLIN gilles":https://epanews.fr/profile/COLLINgilles
ATTACH;FMTTYPE="image/jpeg":
ATTENDEE;ROLE=REQ-PARTICIPANT;PARTSTAT=ACCEPTED;RSVP=TRUE;CN="COLLIN g
 illes":https://epanews.fr/profile/COLLINgilles
END:VEVENT
END:VCALENDAR
