BEGIN:VCALENDAR
PRODID:NingEventWidget-v1
VERSION:2.0
METHOD:PUBLISH
BEGIN:VTIMEZONE
TZID:Europe/Paris
X-LIC-LOCATION:Europe/Paris
BEGIN:DAYLIGHT
TZOFFSETFROM:+0100
TZOFFSETTO:+0200
TZNAME:CEST
DTSTART:19700329T020000
RRULE:FREQ=YEARLY;BYMONTH=3;BYDAY=-1SU
END:DAYLIGHT
BEGIN:STANDARD
TZOFFSETFROM:+0200
TZOFFSETTO:+0100
TZNAME:CET
DTSTART:19701025T030000
RRULE:FREQ=YEARLY;BYMONTH=10;BYDAY=-1SU
END:STANDARD
END:VTIMEZONE
BEGIN:VEVENT
UID:2485226:Event:643928
DTSTAMP:20260420T124250Z
SUMMARY:L'Héritage spirituel de l'Ancienne Egypte
DESCRIPTION:\nChristian Larré membre de l'Ancien et Mystique Ordre d
 e la Rose-Croix et conférencier de l'U.R.C.I, fera appel à l'égypto
 logie scientifique, aux grandes Traditions, mais aussi à la psycholog
 ie, pour éclairer les mythes fondateurs de la société pharaonique. 
 En nous guidant à travers les différentes phases de la civilisation 
 égyptienne, il nous fait assister à l'éveil progressif de la consci
 ence humaine.\nParticipation : 6€-(3€ étudiants)\n\nPour plus d'i
 nformation, aller sur https://epanews.fr/events/l-h-ritage-spirituel-d
 e-l-ancienne-egypte-1
DTSTART;TZID=Europe/Paris:20121020T150000
DTEND;TZID=Europe/Paris:20121020T163000
CATEGORIES:17
LOCATION:Saintes
WEBSITE:http://www.amorc-poitoucharentes.com
URL:http://www.amorc-poitoucharentes.com
CONTACT:06.66.17.31.16
ORGANIZER:Monique
ATTACH;FMTTYPE="image/jpeg":http://storage.ning.com/topology/rest/1.0/
 file/get/1662472896?profile=original
ATTENDEE;ROLE=REQ-PARTICIPANT;PARTSTAT=ACCEPTED;RSVP=TRUE;CN="Christia
 n Roy":https://epanews.fr/profile/ChristianRoy
END:VEVENT
END:VCALENDAR
