BEGIN:VCALENDAR
PRODID:NingEventWidget-v1
VERSION:2.0
METHOD:PUBLISH
BEGIN:VTIMEZONE
TZID:Europe/Paris
X-LIC-LOCATION:Europe/Paris
BEGIN:DAYLIGHT
TZOFFSETFROM:+0100
TZOFFSETTO:+0200
TZNAME:CEST
DTSTART:19700329T020000
RRULE:FREQ=YEARLY;BYMONTH=3;BYDAY=-1SU
END:DAYLIGHT
BEGIN:STANDARD
TZOFFSETFROM:+0200
TZOFFSETTO:+0100
TZNAME:CET
DTSTART:19701025T030000
RRULE:FREQ=YEARLY;BYMONTH=10;BYDAY=-1SU
END:STANDARD
END:VTIMEZONE
BEGIN:VEVENT
UID:2485226:Event:1045859
DTSTAMP:20260422T204051Z
SUMMARY:L'émotion, tyrannique ou bienfaitrice...
DESCRIPTION:Le cadre: l'instant d'amour à Bandol. Une sorte de café-
 psycho...l'émotion...que l'on soit parfois submergé(e) ou parfois in
 sensibilisé(e), l'émotion peut-être délicieuse, raffinée, douce e
 t tendre comme une plume, violente et cruelle comme une flèche de san
 g...mais chacun s'accorde à dire que l'émotion , c'est l'essence de 
 la vie....ce sera donc le thème du soir, avec 20 minutes d'écoute m
 utuelle, un débat, et des hugs facultatifs pour une dose minimum d'a
 mour...après, repas facultatif pas cher...entrée: une boisson pour f
 aire plaisir aux sympathiques propriétaires du resto.  \n\nPour plus
  d'information, aller sur https://epanews.fr/events/l-emotion-tyranniq
 ue-ou-bienfaitrice
DTSTART;TZID=Europe/Paris:20121212T193000
DTEND;TZID=Europe/Paris:20121212T210000
CATEGORIES:83, 13
LOCATION:Bandol 83
WEBSITE:
URL:
CONTACT:06 15 85 75 62 et 04 94 90 59 01
ORGANIZER;CN="COLLIN gilles":https://epanews.fr/profile/COLLINgilles
ATTACH;FMTTYPE="image/jpeg":
ATTENDEE;ROLE=REQ-PARTICIPANT;PARTSTAT=ACCEPTED;RSVP=TRUE;CN="COLLIN g
 illes":https://epanews.fr/profile/COLLINgilles
END:VEVENT
END:VCALENDAR
