BEGIN:VCALENDAR
PRODID:NingEventWidget-v1
VERSION:2.0
METHOD:PUBLISH
BEGIN:VTIMEZONE
TZID:Europe/Paris
X-LIC-LOCATION:Europe/Paris
BEGIN:DAYLIGHT
TZOFFSETFROM:+0100
TZOFFSETTO:+0200
TZNAME:CEST
DTSTART:19700329T020000
RRULE:FREQ=YEARLY;BYMONTH=3;BYDAY=-1SU
END:DAYLIGHT
BEGIN:STANDARD
TZOFFSETFROM:+0200
TZOFFSETTO:+0100
TZNAME:CET
DTSTART:19701025T030000
RRULE:FREQ=YEARLY;BYMONTH=10;BYDAY=-1SU
END:STANDARD
END:VTIMEZONE
BEGIN:VEVENT
UID:2485226:Event:2956897
DTSTAMP:20260423T111333Z
SUMMARY:Lâ€™Ecole du Souffle propose la mÃ©ditation de guÃ©rison Menla
DESCRIPTION:La mÃ©ditation Menla, est lâ€™une des techniques de mÃ©dit
 ation active de guÃ©rison les plus anciennes utilisÃ©e au Tibet. Elle 
 est enseignÃ©e depuis 2500 ans comme un remÃ¨de universel aux maladies
  matÃ©rielles et spirituelles. Menla signifie Â« voir les choses telle
 s qu'elles sont rÃ©ellement Â». La sortie de la nature obsÃ©dante de l
 a pensÃ©e Ã©gocentrique produit une toute nouvelle vision de la rÃ©ali
 tÃ©, qui apporte avec elle un sentiment de paix et de justesse, un nou
 vel Ã©lan envers la vie et le sens de la plÃ©nitude dans les activitÃ©
 s quotidiennes.  Durant cette mÃ©ditation guidÃ©e, lâ€™attention de la
  personne est minutieusement dirigÃ©e vers un examen intense de certai
 ns aspects de son corps et de leur dissolution. Câ€™est un systÃ¨me an
 cien et codifiÃ© dâ€™entrainement de la sensibilitÃ© destinÃ© Ã  vous 
 faire devenir de plus en plus rÃ©ceptif Ã  votre propre expÃ©rience co
 rporelle. Notre vie physique possÃ¨de une texture beaucoup plus profon
 de, si nous nous donnons la peine de regarder et si nous regardons de 
 la bonne maniÃ¨re. Nous vivons tous dans la dualitÃ©, de ce fait nous 
 sommes soumis aux Ã©motions perturbatrices et Ã©tant soumis Ã  celles-
 ci, nous accumulons du karma qui a pris forme dans ce corps. Nous nous
  identifions Ã  ce corps et nous sommes persuadÃ©s que moi et mon corp
 s sont, en fait, une seule entitÃ©. Du fait de cette assimilation, not
 re esprit Ã©prouve comme Ã©tant siennes toutes les souffrances, toutes
  les maladies du corps. Mais dans notre esprit il existe une conscienc
 e originelle qui permet de soulager ces maladies. La mÃ©ditation Menla
  est une activitÃ© vivante, une activitÃ© dont lâ€™essence mÃªme est e
 xpÃ©rimentale. Son but est en prioritÃ© celui de se distancer de la ma
 ladie physique, voir de la faire disparaitre dans certains cas. La dur
 Ã©e de cette mÃ©ditation active est de deux heures non-stop. Des chais
 es sont fournies pour ceux qui ne peuvent s'asseoir confortablement su
 r le sol en raison de leur Ã¢ge ou d'un problÃ¨me physique. Elle se dÃ
 ©roule dans la salle de mÃ©ditation de lâ€™Ecole du Souffle le dimanch
 e 24 juin 2018. Elle dÃ©bute Ã  10h00 et se termine Ã  12h30. Les pers
 onnes intÃ©ressÃ©es sont priÃ©es dâ€™Ãªtres prÃ©sentes au plus tard Ã 
  9h15 dans la salle pour recevoir les instructions concernant le dÃ©ro
 ulement de cette pratique mÃ©ditative active.  Enseignant : Paul Wagne
 r Participation : 15â‚¬ par personne - 25â‚¬ pour un couple Lieu : Eco
 le du Souffle â€“ 255 avenue Marcel CastiÃ© 83000 TOULON â€“ DÃ©but qu
 artier St-Jean du Var (proximitÃ© du lycÃ©e privÃ© Marie-France)  Nomb
 re de places limitÃ©es â€“ Ne tardez pas Ã  rÃ©server â€“ tÃ©l. 06 03 
 47 73 31\n\nPour plus d'information, aller sur https://epanews.fr/even
 ts/l-ecole-du-souffle-propose-la-m-ditation-de-gu-rison-menla
DTSTART;TZID=Europe/Paris:20180624T091500
DTEND;TZID=Europe/Paris:20180624T120000
CATEGORIES:83
LOCATION:Toulon
WEBSITE:
URL:
CONTACT:06 03 47 73 31
ORGANIZER;CN="Wagner Paul":https://epanews.fr/profile/WagnerPaul
ATTACH;FMTTYPE="image/jpeg":http://storage.ning.com/topology/rest/1.0/
 file/get/1663741376?profile=original
ATTENDEE;ROLE=REQ-PARTICIPANT;PARTSTAT=ACCEPTED;RSVP=TRUE;CN="Wagner P
 aul":https://epanews.fr/profile/WagnerPaul
END:VEVENT
END:VCALENDAR
