BEGIN:VCALENDAR
PRODID:NingEventWidget-v1
VERSION:2.0
METHOD:PUBLISH
BEGIN:VTIMEZONE
TZID:Europe/Paris
X-LIC-LOCATION:Europe/Paris
BEGIN:DAYLIGHT
TZOFFSETFROM:+0100
TZOFFSETTO:+0200
TZNAME:CEST
DTSTART:19700329T020000
RRULE:FREQ=YEARLY;BYMONTH=3;BYDAY=-1SU
END:DAYLIGHT
BEGIN:STANDARD
TZOFFSETFROM:+0200
TZOFFSETTO:+0100
TZNAME:CET
DTSTART:19701025T030000
RRULE:FREQ=YEARLY;BYMONTH=10;BYDAY=-1SU
END:STANDARD
END:VTIMEZONE
BEGIN:VEVENT
UID:2485226:Event:432903
DTSTAMP:20260422T234317Z
SUMMARY:\"L'eau, au coeur du mouvement de la vie\"
DESCRIPTION:Avec la revue \"Monde du Graal\", l'auteure conférencièr
 e Monique Giraud nous invite à découvrir l'importance et le rôle de
  l'eau dans notre vie : \"Notre planète, porteuse d'eau, est unique !
  Comment l'eau est-elle apparue ? Son observation nous montre un princ
 ipe unique : le mouvement de la vie. Comment se présente ce mouvement
  ?\"\nEntrées 7 et 5 euros\n\nPour plus d'information, aller sur http
 s://epanews.fr/events/l-eau-au-coeur-du-mouvement
DTSTART;TZID=Europe/Paris:20111104T200000
DTEND;TZID=Europe/Paris:20111104T220000
CATEGORIES:41
LOCATION:BLOIS
WEBSITE:http://graal.org
URL:http://graal.org
CONTACT:06 60 70 54 79
ORGANIZER;CN="Bernard Penverne":https://epanews.fr/profile/BernardPenv
 erne
ATTACH;FMTTYPE="image/jpeg":
ATTENDEE;ROLE=REQ-PARTICIPANT;PARTSTAT=ACCEPTED;RSVP=TRUE;CN="Bernard 
 Penverne":https://epanews.fr/profile/BernardPenverne
END:VEVENT
END:VCALENDAR
