BEGIN:VCALENDAR
PRODID:NingEventWidget-v1
VERSION:2.0
METHOD:PUBLISH
BEGIN:VTIMEZONE
TZID:Europe/Paris
X-LIC-LOCATION:Europe/Paris
BEGIN:DAYLIGHT
TZOFFSETFROM:+0100
TZOFFSETTO:+0200
TZNAME:CEST
DTSTART:19700329T020000
RRULE:FREQ=YEARLY;BYMONTH=3;BYDAY=-1SU
END:DAYLIGHT
BEGIN:STANDARD
TZOFFSETFROM:+0200
TZOFFSETTO:+0100
TZNAME:CET
DTSTART:19701025T030000
RRULE:FREQ=YEARLY;BYMONTH=10;BYDAY=-1SU
END:STANDARD
END:VTIMEZONE
BEGIN:VEVENT
UID:2485226:Event:538372
DTSTAMP:20260423T103129Z
SUMMARY:\"L'eau, au coeur du mouvement de la vie - Comprendre pour agi
 r\"
DESCRIPTION:Rencontre avec Monique Giraud : \"En observant le mouvemen
 t des atomes, des galaxies, des astres, la faÃ§on dont se dÃ©veloppent
  les plantes et les organes du corps humain, on constate un plan de ba
 se unique que l'on pourrait qualifier de mouvement de la vie. Ne serai
 t-il pas logique que ce mouvement fasse partie intÃ©grante de celle qu
 i fut surnommÃ©e \"la porteuse de vie\" ? Les dÃ©sÃ©quilibres constatÃ
 ©s dans les climats ne seraient-ils pas la consÃ©quence d'une eau pert
 urbÃ©e dans son mouvement ?\"\nParticipation Ã¨ et 3 euros -\n\nPour p
 lus d'information, aller sur https://epanews.fr/events/l-eau-au-coeur-
 du-mouvement-de-la-vie-comprendre-pour-agir
DTSTART;TZID=Europe/Paris:20110930T203000
DTEND;TZID=Europe/Paris:20110930T223000
CATEGORIES:83
LOCATION:LA CRAU
WEBSITE:http://graal.org
URL:http://graal.org
CONTACT:04 94 48 29 88
ORGANIZER:La revue \"Monde du Graal\"
ATTACH;FMTTYPE="image/jpeg":
ATTENDEE;ROLE=REQ-PARTICIPANT;PARTSTAT=ACCEPTED;RSVP=TRUE;CN="Bernard 
 Penverne":https://epanews.fr/profile/BernardPenverne
END:VEVENT
END:VCALENDAR
