BEGIN:VCALENDAR
PRODID:NingEventWidget-v1
VERSION:2.0
METHOD:PUBLISH
BEGIN:VTIMEZONE
TZID:Europe/Paris
X-LIC-LOCATION:Europe/Paris
BEGIN:DAYLIGHT
TZOFFSETFROM:+0100
TZOFFSETTO:+0200
TZNAME:CEST
DTSTART:19700329T020000
RRULE:FREQ=YEARLY;BYMONTH=3;BYDAY=-1SU
END:DAYLIGHT
BEGIN:STANDARD
TZOFFSETFROM:+0200
TZOFFSETTO:+0100
TZNAME:CET
DTSTART:19701025T030000
RRULE:FREQ=YEARLY;BYMONTH=10;BYDAY=-1SU
END:STANDARD
END:VTIMEZONE
BEGIN:VEVENT
UID:2485226:Event:1370261
DTSTAMP:20260422T010945Z
SUMMARY:L'aventure intérieure de la sagesse (sur le thème des contes
  et des mythes)
DESCRIPTION:Objectifs: Utiliser une nouvelle manière d'être et de pe
 nser,Transformer sa façon de percevoir le monde et les autres, Cultiv
 er la bienveillance et le non-jugement, Gérer ses émotions et guéri
 r ses blessures, Vivre chaque instant dans l'accueil et le lâcher-pri
 se, Trouver l'harmonie et la paix intérieure, Rencontrer toutes les d
 imensions de soi, Découvrir son élan de vie et le vivre, Agir sur sa
  santé.\nChaque atelier comporte 4 parties: une pratique de pleine co
 nscience, une pratique psychocorporelle, un rêve éveillé, un partag
 e.\nDates pour 4 groupes.\nDate de démarrage du premier groupe : voir
  ci-dessus\n15 € chaque atelier\njfheiz@orange.fr\n\nPour plus d'inf
 ormation, aller sur https://epanews.fr/events/l-aventure-int-rieure-de
 -la-sagesse-sur-le-th-me-des-contes-et
DTSTART;TZID=Europe/Paris:20130917T143000
DTEND;TZID=Europe/Paris:20130917T170000
CATEGORIES:14
LOCATION:Ouistreham
WEBSITE:
URL:
CONTACT:06 15 38 46 87
ORGANIZER:Jean-Frédéric Heiz (médecin)
ATTACH;FMTTYPE="image/jpeg":
ATTENDEE;ROLE=REQ-PARTICIPANT;PARTSTAT=ACCEPTED;RSVP=TRUE;CN=CathyA:ht
 tps://epanews.fr/profile/CathyA
END:VEVENT
END:VCALENDAR
