BEGIN:VCALENDAR
PRODID:NingEventWidget-v1
VERSION:2.0
METHOD:PUBLISH
BEGIN:VTIMEZONE
TZID:Europe/Paris
X-LIC-LOCATION:Europe/Paris
BEGIN:DAYLIGHT
TZOFFSETFROM:+0100
TZOFFSETTO:+0200
TZNAME:CEST
DTSTART:19700329T020000
RRULE:FREQ=YEARLY;BYMONTH=3;BYDAY=-1SU
END:DAYLIGHT
BEGIN:STANDARD
TZOFFSETFROM:+0200
TZOFFSETTO:+0100
TZNAME:CET
DTSTART:19701025T030000
RRULE:FREQ=YEARLY;BYMONTH=10;BYDAY=-1SU
END:STANDARD
END:VTIMEZONE
BEGIN:VEVENT
UID:2485226:Event:960568
DTSTAMP:20260419T231944Z
SUMMARY:\"l'Atelier du Dessin-Miroir\"
DESCRIPTION:Relaxation – Créativité – Interprétation – Transf
 ormation\n Venez découvrir une part de vous-même grâce au dessin et
  au modelage.\n \nAprès un moment de relaxation, vous laisserez votr
 e imagination s’exprimer .\nEnsemble, nous essayerons de décrypter 
 l’œuvre et d’y déceler un message venant\nde votre inconscient.\
 nVous pourrez ensuite développer les aspects positifs de cet\naxe de 
 réflexion en transformant votre création de départ.\nOuvert à TOUS
  ! \n30 euros/pers.\nMax. 6 personnes\nLieu: salle \"Yoga et caetera\
 " \n\nPour plus d'information, aller sur https://epanews.fr/events/l-a
 telier-du-dessin-miroir
DTSTART;TZID=Europe/Paris:20121013T140000
DTEND;TZID=Europe/Paris:20121013T170000
CATEGORIES:44
LOCATION:Nantes, Chantenay
WEBSITE:
URL:
CONTACT:0661297721
ORGANIZER;CN=Emily:https://epanews.fr/profile/imili
ATTACH;FMTTYPE="image/jpeg":
ATTENDEE;ROLE=REQ-PARTICIPANT;PARTSTAT=ACCEPTED;RSVP=TRUE;CN=Emily:htt
 ps://epanews.fr/profile/imili
END:VEVENT
END:VCALENDAR
