BEGIN:VCALENDAR
PRODID:NingEventWidget-v1
VERSION:2.0
METHOD:PUBLISH
BEGIN:VTIMEZONE
TZID:Europe/Paris
X-LIC-LOCATION:Europe/Paris
BEGIN:DAYLIGHT
TZOFFSETFROM:+0100
TZOFFSETTO:+0200
TZNAME:CEST
DTSTART:19700329T020000
RRULE:FREQ=YEARLY;BYMONTH=3;BYDAY=-1SU
END:DAYLIGHT
BEGIN:STANDARD
TZOFFSETFROM:+0200
TZOFFSETTO:+0100
TZNAME:CET
DTSTART:19701025T030000
RRULE:FREQ=YEARLY;BYMONTH=10;BYDAY=-1SU
END:STANDARD
END:VTIMEZONE
BEGIN:VEVENT
UID:2485226:Event:1892729
DTSTAMP:20260421T034304Z
SUMMARY:L'atelier du bonheur
DESCRIPTION:Avec Francine Raulet\nÂ \nNous serons guidÃ©s afin de nous
  REconnecter Ã  toutes ces petites et grandes expÃ©riences qui partici
 pent Ã  notre bonheur. Au travers dâ€™exercices ludiques, dâ€™Ã©change
 s chaleureux et bienveillants, qui mine de rien embelliront notre quot
 idien,Â  nous ferons un grand pas vers la psychologie positive !\nÂ \n
 ThÃ©matique de cet atelier :Â \nÂ \nJe fais la paix avec le temps\nUn 
 atelier qui nâ€™est pas du temps de perdu !!\nÂ \nÂ \n* Une vie qui sâ
 €™Ã©coule Ã  vitesse grand V, des journÃ©es auxquelles il manque des h
 eures, vous attendez les vacances pour faire PAUSE, et encore parfoisâ
 €¦. mÃªme les week end ne sont pas plus confortables â€¦  * De semaine
 s en semaines, vous reportez vos pauses bien-Ãªtre rien que pour vous,
  ou mÃªme de vrais moments complices avec vos proches .  Comment font 
 alors les autres? certains semblent Ãªtre Ã©pargnÃ©s par le manque de 
 temps et lâ€™accumulation des taches, alors que le temps est le mÃªme 
 pour tout le monde !  Si vous voulez inverser la tendance et enfin pou
 voir dire \"oui, jâ€™ai tout le temps nÃ©cessaire pour â€¦\" il va vou
 s falloir trouver 3 heures pour m'accompagner Ã  cet atelier du bonheu
 r.   * Parce quâ€™ici vous trouverez des clefs essentielles pour ne pl
 us jamais dire, \"je nâ€™aurai jamais assez le temps pour .\".â€“ ou â
 €“ encore \" une journÃ©e qui vient de passer et je nâ€™ai rien vu,\"j
 e nâ€™ai profitÃ© de rien\" ,  la journÃ©e mais aussi, la semaine, les
  mois, les annÃ©esâ€¦   Astuces concrÃªtes, nouvelles attitudes, retou
 r sur ses essentiels, instant prÃ©sent , partages dâ€™outils inspirÃ©s
  de la psychologie positive, viendront vous soutenir dans votre rÃ©con
 ciliation avec le temps .\nPlace limitÃ©es, merci de rÃ©server par tÃ©
 lÃ©phone\nTARIF = 29 â‚¬\n\nPour plus d'information, aller sur https:/
 /epanews.fr/events/l-atelier-du-bonheur-2
DTSTART;TZID=Europe/Paris:20140512T140000
DTEND;TZID=Europe/Paris:20140512T170000
CATEGORIES:13
LOCATION:Espace Ki-Zen
WEBSITE:
URL:
CONTACT:06.22.07.16.10
ORGANIZER;CN="Espace Ki-Zen":https://epanews.fr/profile/EspaceKiZen
ATTACH;FMTTYPE="image/jpeg":http://storage.ning.com/topology/rest/1.0/
 file/get/1663123611?profile=original
ATTENDEE;ROLE=REQ-PARTICIPANT;PARTSTAT=ACCEPTED;RSVP=TRUE;CN="Espace K
 i-Zen":https://epanews.fr/profile/EspaceKiZen
ATTENDEE;ROLE=REQ-PARTICIPANT;PARTSTAT=TENTATIVE;RSVP=TRUE;CN=Laurence
 :https://epanews.fr/profile/Laurence77
END:VEVENT
END:VCALENDAR
