BEGIN:VCALENDAR
PRODID:NingEventWidget-v1
VERSION:2.0
METHOD:PUBLISH
BEGIN:VTIMEZONE
TZID:Europe/Paris
X-LIC-LOCATION:Europe/Paris
BEGIN:DAYLIGHT
TZOFFSETFROM:+0100
TZOFFSETTO:+0200
TZNAME:CEST
DTSTART:19700329T020000
RRULE:FREQ=YEARLY;BYMONTH=3;BYDAY=-1SU
END:DAYLIGHT
BEGIN:STANDARD
TZOFFSETFROM:+0200
TZOFFSETTO:+0100
TZNAME:CET
DTSTART:19701025T030000
RRULE:FREQ=YEARLY;BYMONTH=10;BYDAY=-1SU
END:STANDARD
END:VTIMEZONE
BEGIN:VEVENT
UID:2485226:Event:967260
DTSTAMP:20260420T214239Z
SUMMARY:L'Atelier des enfants
DESCRIPTION:       L'atelier 1,2,3...Respire  vous propose tous l
 es mercredis après midi de venir apprendre des techniques de relaxati
 on et de respirations pour partager avec votre enfant un moment privil
 égié de détente et de sérénité. Améliore la confiance en soi, l
 ibère la créativité. Pour apprendre le calme, la concentration. Des
  exercices ludiques à refaire à la maison.\n- 14 h 15  à  partir 
 de 7 ans,enfant non accompagné\n-15 h 45 pour enfants entre 3 et 6 a
 ns,  avec un adulte. \nInscription préalable par tel, merci.Affiche
 %20%20Atelier%20relaxation%20photos%20ARC%20EN%20CIEL.pdf \n\n\nPour 
 plus d'information, aller sur https://epanews.fr/events/l-atelier-des-
 enfants
DTSTART;TZID=Europe/Paris:20121010T141500
DTEND;TZID=Europe/Paris:20121010T164500
CATEGORIES:83
LOCATION:Centre bien être et zen
WEBSITE:
URL:
CONTACT:06 64 84 91 71
ORGANIZER;CN=Faby:https://epanews.fr/profile/baryga
ATTACH;FMTTYPE="image/jpeg":http://storage.ning.com/topology/rest/1.0/
 file/get/1662674012?profile=original
ATTENDEE;ROLE=REQ-PARTICIPANT;PARTSTAT=ACCEPTED;RSVP=TRUE;CN=Faby:http
 s://epanews.fr/profile/baryga
END:VEVENT
END:VCALENDAR
