BEGIN:VCALENDAR
PRODID:NingEventWidget-v1
VERSION:2.0
METHOD:PUBLISH
BEGIN:VTIMEZONE
TZID:Europe/Paris
X-LIC-LOCATION:Europe/Paris
BEGIN:DAYLIGHT
TZOFFSETFROM:+0100
TZOFFSETTO:+0200
TZNAME:CEST
DTSTART:19700329T020000
RRULE:FREQ=YEARLY;BYMONTH=3;BYDAY=-1SU
END:DAYLIGHT
BEGIN:STANDARD
TZOFFSETFROM:+0200
TZOFFSETTO:+0100
TZNAME:CET
DTSTART:19701025T030000
RRULE:FREQ=YEARLY;BYMONTH=10;BYDAY=-1SU
END:STANDARD
END:VTIMEZONE
BEGIN:VEVENT
UID:2485226:Event:2790999
DTSTAMP:20260422T162556Z
SUMMARY:L'Atelier de la chaux. Stages découverte.
DESCRIPTION:L’ATELIER DE LA CHAUX\nSéminaires de formation professi
 onnelle\nStages découverte\n \nL'UNIVERS DE LA CHAUX EN DECORATION\n
  \nOBJECTIF\n« Concevoir mortiers, enduits et peintures\navec des m
 atériaux nobles et sains\nApprendre à restaure et décorer,\nEtude t
 echnologique sur la chaux, les pigments et charges minérales, les adj
 uvants.\nDévelopper la créativité en s’imprégnant de la traditio
 n\nEnduits fins, stucco, peintures et patines à base de chaux Aérien
 ne.»\n \nDATE : \nStage de formation :\nConcevoir soi-même une pe
 inture avec des produits naturels\n1 journée le Samedi 04 Mars 2017 -
 coût 135 €\n \nStage de formation : Mosaïque et béton ciré \nC
 onception de décors et techniques de pose, allier tradition et modern
 ité.\n3 jours du 19 au 21 Avril 2017 – coût 450 €\n \nStage de 
 formation : Stucco – Enduits décoratifs\nRecettes et techniques tra
 ditionnelles d'enduits décoratifs\nMarmorino, Mantovano et fresque.\n
 2 jours les 11 au 12 Mai 2017 – coût 270 €\n \nLIEU : Espace de
  soins holistique 31 rue de Cuire Bat C 69004 Lyon\nSéminaire d’ini
 tiation : 10 personnes maximum.\n \nInformations et inscriptions au\
 n06 16 18 35 95 ou mail stephpiccini@yahoo.fr\nContact : Stéphane PI
 CCINI www.atelier-chaux.fr\nArtisan-Formateur         Siret:478
 95686500016\n \n\nPour plus d'information, aller sur https://epanews.
 fr/events/l-atelier-de-la-chaux-stages-d-couverte
DTSTART;TZID=Europe/Paris:20170304T000000
DTEND;TZID=Europe/Paris:20170304T235900
CATEGORIES:69
LOCATION:Espace de Soins Holistique
WEBSITE:http://www.atelier-chaux.fr
URL:http://www.atelier-chaux.fr
CONTACT:06 16 18 35 95
ORGANIZER:Stéphane PICCINI
ATTACH;FMTTYPE="image/jpeg":http://storage.ning.com/topology/rest/1.0/
 file/get/1663646746?profile=original
ATTENDEE;ROLE=REQ-PARTICIPANT;PARTSTAT=ACCEPTED;RSVP=TRUE;CN=gem-masse
 r:https://epanews.fr/profile/gem_masser
ATTENDEE;ROLE=REQ-PARTICIPANT;PARTSTAT=TENTATIVE;RSVP=TRUE;CN=jade:htt
 ps://epanews.fr/profile/RoseMarieBastardis
END:VEVENT
END:VCALENDAR
