BEGIN:VCALENDAR
PRODID:NingEventWidget-v1
VERSION:2.0
METHOD:PUBLISH
BEGIN:VTIMEZONE
TZID:Europe/Paris
X-LIC-LOCATION:Europe/Paris
BEGIN:DAYLIGHT
TZOFFSETFROM:+0100
TZOFFSETTO:+0200
TZNAME:CEST
DTSTART:19700329T020000
RRULE:FREQ=YEARLY;BYMONTH=3;BYDAY=-1SU
END:DAYLIGHT
BEGIN:STANDARD
TZOFFSETFROM:+0200
TZOFFSETTO:+0100
TZNAME:CET
DTSTART:19701025T030000
RRULE:FREQ=YEARLY;BYMONTH=10;BYDAY=-1SU
END:STANDARD
END:VTIMEZONE
BEGIN:VEVENT
UID:2485226:Event:1052641
DTSTAMP:20260421T200908Z
SUMMARY:l'astrologie, une voie d'Ã©veil
DESCRIPTION:ConfÃ©rence\n\nL'ASTROLOGIE, UNE VOIE D'EVEIL\nDÃ©couvrez 
 votre chemin de rÃ©alisation\n\nAbdallah HOUMED\nAstrologue-AstrothÃ©r
 apeute\nToutes les qualitÃ©s d'Ãªtre, reprÃ©sentÃ©es par les Ã©nergies
  du zodiaque, sont en potentiel Ã  l'intÃ©rieur de nous. Qu'est-ce qui
  nous empÃªche de les Ã©veiller, les conscientiser pour vivre en harmo
 nie avec notre environnement familial, relationnel et professionnel?\n
 Nous sommes aussi porteurs de mÃ©moires, Ã  l'origine de certaines de 
 nos croyances sur le monde, de schÃ©mas rÃ©pÃ©titifs et dysfonctionnel
 s. Cependant, notre histoire et nos blessures, constituent aussi une v
 Ã©ritable opportunitÃ© de transformation et d'Ã©volution.\nQuel est le
  vrai sens de la loi du karma et comment la dÃ©passer? Qu'est-ce que n
 ous sommes venus faire sur cette Terre? Comment Ãªtre en phase avec no
 s aspirations profondes? Qu'est-ce que le dharma?\nL'Astrologie de l'Ã
 ¢me peut Ãªtre une aide prÃ©cieuse pour mieux nous connaitre, donner u
 n sens Ã  ce que nous vivons et nous indiquer la direction de notre ch
 emin de vie, la note unique que nous avons Ã  jouer sur cette Terre.\n
 Pour en savoir plus sur cette approche de l'astrologie qui est une voi
 e d'Ã©volution\net non un outil de prÃ©diction ou de divination\n\nPou
 r plus d'information, aller sur https://epanews.fr/events/l-astrologie
 -une-voie-d-veil
DTSTART;TZID=Europe/Paris:20130115T203000
DTEND;TZID=Europe/Paris:20130115T220000
CATEGORIES:35
LOCATION:Maison de quartier villejean
WEBSITE:
URL:
CONTACT:0670831598
ORGANIZER;CN="Abdallah HOUMED":https://epanews.fr/profile/Darshan35
ATTACH;FMTTYPE="image/jpeg":http://storage.ning.com/topology/rest/1.0/
 file/get/1662709421?profile=original
ATTENDEE;ROLE=REQ-PARTICIPANT;PARTSTAT=ACCEPTED;RSVP=TRUE;CN="Abdallah
  HOUMED":https://epanews.fr/profile/Darshan35
END:VEVENT
END:VCALENDAR
