BEGIN:VCALENDAR
PRODID:NingEventWidget-v1
VERSION:2.0
METHOD:PUBLISH
BEGIN:VTIMEZONE
TZID:Europe/Paris
X-LIC-LOCATION:Europe/Paris
BEGIN:DAYLIGHT
TZOFFSETFROM:+0100
TZOFFSETTO:+0200
TZNAME:CEST
DTSTART:19700329T020000
RRULE:FREQ=YEARLY;BYMONTH=3;BYDAY=-1SU
END:DAYLIGHT
BEGIN:STANDARD
TZOFFSETFROM:+0200
TZOFFSETTO:+0100
TZNAME:CET
DTSTART:19701025T030000
RRULE:FREQ=YEARLY;BYMONTH=10;BYDAY=-1SU
END:STANDARD
END:VTIMEZONE
BEGIN:VEVENT
UID:2485226:Event:952841
DTSTAMP:20260421T100821Z
SUMMARY:La main dans la main: l'art du contact
DESCRIPTION:Dans le cadre chaleureux et créatif de l'Instant d'Amour,
  une institution provençale au bord de l'eau qui ressemble à un caf
 é-psycho, le thème du jour sera la question du geste juste, du mot j
 uste, du bon moment et cie...et des horribles ratés communicationnels
  qui surviennent même aux plus vaillant(e)s!...c'est gratuit, dans un
  resto de Bandol, hormis le fait qu'il convienne de prendre un verre p
 our remercier nos hôtes..donc: au début, 20 minutes d'écoute mutuel
 le, puis débat, puis hugs facultatifs, puis repas pas cher facultatif
  aussi sur place. Courage citoyens et à bientôt.\n\nPour plus d'info
 rmation, aller sur https://epanews.fr/events/l-art-du-contact-la-main-
 dans-la-main
DTSTART;TZID=Europe/Paris:20121017T193000
DTEND;TZID=Europe/Paris:20121017T210000
CATEGORIES:83
LOCATION:Bandol 83
WEBSITE:
URL:
CONTACT:04 94 90 59 01 et 06 15 85 75 62
ORGANIZER;CN="COLLIN gilles":https://epanews.fr/profile/COLLINgilles
ATTACH;FMTTYPE="image/jpeg":
ATTENDEE;ROLE=REQ-PARTICIPANT;PARTSTAT=ACCEPTED;RSVP=TRUE;CN="Dame Nat
 ure":https://epanews.fr/profile/DameNature
ATTENDEE;ROLE=REQ-PARTICIPANT;PARTSTAT=ACCEPTED;RSVP=TRUE;CN="COLLIN g
 illes":https://epanews.fr/profile/COLLINgilles
ATTENDEE;ROLE=REQ-PARTICIPANT;PARTSTAT=TENTATIVE;RSVP=TRUE;CN="Anne-Ma
 rie PAILLARD":https://epanews.fr/profile/AnneMariePAILLARD
END:VEVENT
END:VCALENDAR
