BEGIN:VCALENDAR
PRODID:NingEventWidget-v1
VERSION:2.0
METHOD:PUBLISH
BEGIN:VTIMEZONE
TZID:Europe/Paris
X-LIC-LOCATION:Europe/Paris
BEGIN:DAYLIGHT
TZOFFSETFROM:+0100
TZOFFSETTO:+0200
TZNAME:CEST
DTSTART:19700329T020000
RRULE:FREQ=YEARLY;BYMONTH=3;BYDAY=-1SU
END:DAYLIGHT
BEGIN:STANDARD
TZOFFSETFROM:+0200
TZOFFSETTO:+0100
TZNAME:CET
DTSTART:19701025T030000
RRULE:FREQ=YEARLY;BYMONTH=10;BYDAY=-1SU
END:STANDARD
END:VTIMEZONE
BEGIN:VEVENT
UID:2485226:Event:967016
DTSTAMP:20260420T232104Z
SUMMARY:L'Art de marcher :marche consciente et marche afghane
DESCRIPTION:Une journée pour explorer toutes les facettes et bienfait
 s de la marche vécue comme un Art de marcher,une méditation dans l'a
 ction et un chemin de connaissance de soi. Au programme: marche consci
 ente,marche afghane,Hara,Yoga du son... Une invitation à écouter bat
 tre en vous le coeur de l'Univers!\n\n\nPour plus d'information, aller
  sur https://epanews.fr/events/l-art-de-marcher-marche-consciente-et-m
 arche-afghane
DTSTART;TZID=Europe/Paris:20121010T084500
DTEND;TZID=Europe/Paris:20121010T170000
CATEGORIES:73
LOCATION:aux portes de Chambéry,à St Alban Leysse
WEBSITE:http://www.marche-consciente.com
URL:http://www.marche-consciente.com
CONTACT:0662379588
ORGANIZER:daniel zanin,accompagnateur en montagne,créateur de la mét
 hode l'Art de marcher
ATTACH;FMTTYPE="image/jpeg":
ATTENDEE;ROLE=REQ-PARTICIPANT;PARTSTAT=ACCEPTED;RSVP=TRUE;CN="daniel z
 anin":https://epanews.fr/profile/danielzanin
END:VEVENT
END:VCALENDAR
