BEGIN:VCALENDAR
PRODID:NingEventWidget-v1
VERSION:2.0
METHOD:PUBLISH
BEGIN:VTIMEZONE
TZID:Europe/Paris
X-LIC-LOCATION:Europe/Paris
BEGIN:DAYLIGHT
TZOFFSETFROM:+0100
TZOFFSETTO:+0200
TZNAME:CEST
DTSTART:19700329T020000
RRULE:FREQ=YEARLY;BYMONTH=3;BYDAY=-1SU
END:DAYLIGHT
BEGIN:STANDARD
TZOFFSETFROM:+0200
TZOFFSETTO:+0100
TZNAME:CET
DTSTART:19701025T030000
RRULE:FREQ=YEARLY;BYMONTH=10;BYDAY=-1SU
END:STANDARD
END:VTIMEZONE
BEGIN:VEVENT
UID:2485226:Event:2869427
DTSTAMP:20260421T121414Z
SUMMARY:L'art d'être heureux. Le bonheur est-il à notre portée ?
DESCRIPTION:Le Bonheur est-il à notre portée ?Troisième conférence
  d'un cycle de 6 conférences sur le bonheur grâce à @l'ennéagramme
 Jeudi 7 septembre à 19 h 00 à La CiotatDurée : 1 h 30 - Entrée : 5
  €L'adresse sera communiquée lors de la réservation par tél : 06
  86 95 25 62 | www.marianne-jalil.frApprendre à être heureux avec s
 oi tout d'abord, se connaître, s'apprécier, s'aimer... c'est la clé
  du bonheur, ce qui va nous permettre d'aller vers l'autre en étant n
 ous-même.Cultiver des relations harmonieuses ne se conçoit pas sans 
 avoir fait un tour à l'intérieur de soi pour regarder quelles sont n
 os motivations, ce qui nous anime, nos besoins...C'est ce que nous pro
 pose l'Ennéagramme. Grâce à la puissance de cet outil nous allons 
 pouvoir comprendre pourquoi nous agissons toujours de la même manièr
 e avec certaines personnes, pourquoi nous n'arrivons pas à vivre des 
 relations harmonieuses en couple, en famille, avec nos enfants... ou d
 ans le cadre professionnel. L'Ennéagramme nous donne des clés pour 
 nous libérer des conditionnements, connaître nos besoins pour ensuit
 e comprendre ceux des autres et vivre enfin selon notre conception du 
 bonheur !\n\nPour plus d'information, aller sur https://epanews.fr/eve
 nts/l-art-d-tre-heureux-le-bonheur-est-il-notre-port-e
DTSTART;TZID=Europe/Paris:20170907T190000
DTEND;TZID=Europe/Paris:20170907T203000
CATEGORIES:13
LOCATION:La Ciotat (l'adresse sera communiquée lors de la réservatio
 n téléphonique)
WEBSITE:http://www.marianne-jalil.fr
URL:http://www.marianne-jalil.fr
CONTACT:06 86 95 25 62
ORGANIZER;CN=Marianne:https://epanews.fr/profile/MarianneJalil
ATTACH;FMTTYPE="image/jpeg":http://storage.ning.com/topology/rest/1.0/
 file/get/1663686826?profile=original
ATTENDEE;ROLE=REQ-PARTICIPANT;PARTSTAT=ACCEPTED;RSVP=TRUE;CN=Marianne:
 https://epanews.fr/profile/MarianneJalil
END:VEVENT
END:VCALENDAR
