BEGIN:VCALENDAR
PRODID:NingEventWidget-v1
VERSION:2.0
METHOD:PUBLISH
BEGIN:VTIMEZONE
TZID:Europe/Paris
X-LIC-LOCATION:Europe/Paris
BEGIN:DAYLIGHT
TZOFFSETFROM:+0100
TZOFFSETTO:+0200
TZNAME:CEST
DTSTART:19700329T020000
RRULE:FREQ=YEARLY;BYMONTH=3;BYDAY=-1SU
END:DAYLIGHT
BEGIN:STANDARD
TZOFFSETFROM:+0200
TZOFFSETTO:+0100
TZNAME:CET
DTSTART:19701025T030000
RRULE:FREQ=YEARLY;BYMONTH=10;BYDAY=-1SU
END:STANDARD
END:VTIMEZONE
BEGIN:VEVENT
UID:2485226:Event:590229
DTSTAMP:20260423T165145Z
SUMMARY:L'argent et la Famille
DESCRIPTION:L’argent, que nous en ayons ou pas, tient souvent une gr
 ande place dans nos vies et dans nos têtes.\nPendant cette saison 201
 1/2012, c’est sous la forme d’ateliers de 2H, pratiques et basés 
 sur l’échange entre participants avec mon accompagnement, que j’a
 i choisi de vous proposer cette exploration de l’énergie Argent.\nJ
 e les souhaite concrets, ludiques tout en restant profonds. Laissez- v
 ous surprendre !\nAT 1 : L’Argent & la Famille. Samedi 19 Novembre
  2011, 10h-12h\nAT 2 : L’Argent & le Plaisir. Samedi 10 Décembre 2
 011, 10h-12h\nAT 3 : L’Argent & les Comptes. Samedi 14 Janvier 2012
 . Attention pour cet atelier, il y aura un travail préparatoire à fa
 ire chez vous.\nAT 4 : L’Argent & les Croyances. Samedi 11 février
  2012, 10h-12h\nAT 5 : L’Argent & l’Abondance. Samedi 10 Mars 201
 2, 10h12h\nAT 6 : L’Argent & les Modèles. Jeudi 3 Mai 2012 en soir
 ée.\nTarif:   25€ pour 1 /2/3 ateliers, 22€ pour 4/5/6 ateliers
 . Détails sur le site internet.\n \nOù : M° Père Lachaise Adress
 e précise communiquée lors de votre inscription. \n\nQui : Alexandr
 a Pérol, Thérapeute en Psychologie Biodynamique\nMerci de me confirm
 er votre présence : 06 20 95 89 34 ou alexandraperol@gmail.com\n \n
 www.la-sphere-humaine.com\n\nPour plus d'information, aller sur https:
 //epanews.fr/events/l-argent-et-la-famille
DTSTART;TZID=Europe/Paris:20111119T100000
DTEND;TZID=Europe/Paris:20111119T120000
CATEGORIES:75
LOCATION:Paris
WEBSITE:
URL:
CONTACT:0620958934
ORGANIZER;CN="ALEXANDRA PEROL":https://epanews.fr/profile/ALEXANDRAPER
 OL
ATTACH;FMTTYPE="image/jpeg":
ATTENDEE;ROLE=REQ-PARTICIPANT;PARTSTAT=ACCEPTED;RSVP=TRUE;CN="ALEXANDR
 A PEROL":https://epanews.fr/profile/ALEXANDRAPEROL
END:VEVENT
END:VCALENDAR
