BEGIN:VCALENDAR
PRODID:NingEventWidget-v1
VERSION:2.0
METHOD:PUBLISH
BEGIN:VTIMEZONE
TZID:Europe/Paris
X-LIC-LOCATION:Europe/Paris
BEGIN:DAYLIGHT
TZOFFSETFROM:+0100
TZOFFSETTO:+0200
TZNAME:CEST
DTSTART:19700329T020000
RRULE:FREQ=YEARLY;BYMONTH=3;BYDAY=-1SU
END:DAYLIGHT
BEGIN:STANDARD
TZOFFSETFROM:+0200
TZOFFSETTO:+0100
TZNAME:CET
DTSTART:19701025T030000
RRULE:FREQ=YEARLY;BYMONTH=10;BYDAY=-1SU
END:STANDARD
END:VTIMEZONE
BEGIN:VEVENT
UID:2485226:Event:532604
DTSTAMP:20260423T104807Z
SUMMARY:L'Arbre des DÃ©sirs - Stage de Biodanza
DESCRIPTION:L'Arbre des DÃ©sirs\nDÃ©sirerâ€¦, choisir la voie de nos d
 Ã©sirs vers plus de plÃ©nitude et dâ€™acceptation.Â Â \nLâ€™Ãªtre sans
  dÃ©sir a la sensation de manquer Ã  la vie.Lâ€™Ãªtre de dÃ©sir peut a
 voir peur de ne pas avoir assez dâ€™une seule vie pour tout rÃ©aliser.
  Le dÃ©sir de vivre pleinement nous plonge souvent dans le fleuve tumu
 ltueux du choix et son cortÃ¨ge de peurs.Â Â \nLors de ce stage, nous 
 aborderons la force du dÃ©sir qui se cache derriÃ¨re toute peur, afin 
 de la rendre disponible Ã  la rÃ©alisation. Nous dÃ©placerons la dynam
 ique du dÃ©sirÂ : de nombreux penseurs, Ã  lâ€™image de ceux qui nâ€™o
 nt pas accÃ¨s Ã  leur plÃ©nitude intÃ©rieure, en font expression dâ€™u
 n manque. Ce nâ€™est quâ€™une approche rÃ©ductrice de sa nature. Dans 
 notre approche, il devient une manifestation de la puissance de la vie
  cherchant ses voies.Â Â \nLa proposition est de crÃ©er lâ€™image symb
 olique de notre Â«Â Arbre des DÃ©sirsÂ Â», dâ€™identifier des lignes d
 e fragilitÃ© et des lignes de force. Puis dâ€™invoquer celles-ci par d
 es danses et des dÃ©fis ritualisÃ©s qui constituent les moments essent
 iels de ce stage. Il aboutit Ã  la rÃ©alisation de Â«Â Lâ€™Etoile des 
 dÃ©sirsÂ Â», dans laquelle apparaissent, pour chacun, les dÃ©sirs qui 
 seront des prioritÃ©sÂ et en faveur desquels nous dÃ©couvrons comment 
 mobiliser, canaliser notre Ã©nergie vitale, crÃ©atrice et amoureuse.\n
 De lâ€™Arbres des DÃ©sirs Ã  lâ€™Etoile des DÃ©sirs, se dessine un ord
 re vivant dotÃ© de beautÃ©, de cohÃ©rence et de force. Une invitation 
 Ã  assumer pleinement la nature et la singularitÃ© de nos dÃ©sirs,Â  d
 e nos rÃªves, de nos aspirations profondes. Avec intensitÃ©, luciditÃ©
  et responsabilitÃ©...\nA lâ€™occasion du stage, et en accord avec la 
 mÃ©thodologie crÃ©e par Rolando Toro Araneda pour cette extension de l
 a Biodanza, chaque participant construira son Etoile des DÃ©sirs, Ã  p
 artir de lâ€™Arbre des DÃ©sirs, et se verra proposer des Â«Â dÃ©fisÂ Â
 » vivenciels, destinÃ©s Ã  incorporer la force, la motivation, la prof
 ondeur des dÃ©sirs ayant Ã©tÃ© identifiÃ©s comme prioritaires ou essen
 tiels pour lui.\n\nPour plus d'information, aller sur https://epanews.
 fr/events/l-arbre-des-d-sirs-stage-de-biodanza
DTSTART;TZID=Europe/Paris:20111125T190000
DTEND;TZID=Europe/Paris:20111127T180000
CATEGORIES:06
LOCATION:Roquefort les Pins
WEBSITE:http://www.biodanza-med.com/FR/stage.php?t=3&id=41
URL:http://www.biodanza-med.com/FR/stage.php?t=3&id=41
CONTACT:0664846309
ORGANIZER;CN="HÃ©lÃ¨ne LÃ©vy Benseft":https://epanews.fr/profile/Helen
 eLevyBenseft
ATTACH;FMTTYPE="image/jpeg":http://storage.ning.com/topology/rest/1.0/
 file/get/1662461213?profile=original
ATTENDEE;ROLE=REQ-PARTICIPANT;PARTSTAT=ACCEPTED;RSVP=TRUE;CN="HÃ©lÃ¨ne
  LÃ©vy Benseft":https://epanews.fr/profile/HeleneLevyBenseft
END:VEVENT
END:VCALENDAR
