BEGIN:VCALENDAR
PRODID:NingEventWidget-v1
VERSION:2.0
METHOD:PUBLISH
BEGIN:VTIMEZONE
TZID:Europe/Paris
X-LIC-LOCATION:Europe/Paris
BEGIN:DAYLIGHT
TZOFFSETFROM:+0100
TZOFFSETTO:+0200
TZNAME:CEST
DTSTART:19700329T020000
RRULE:FREQ=YEARLY;BYMONTH=3;BYDAY=-1SU
END:DAYLIGHT
BEGIN:STANDARD
TZOFFSETFROM:+0200
TZOFFSETTO:+0100
TZNAME:CET
DTSTART:19701025T030000
RRULE:FREQ=YEARLY;BYMONTH=10;BYDAY=-1SU
END:STANDARD
END:VTIMEZONE
BEGIN:VEVENT
UID:2485226:Event:2606579
DTSTAMP:20260422T021014Z
SUMMARY:Modification demandÃ©e
DESCRIPTION:Lâ€™Arbre de Vie : Il sâ€™agit dâ€™un schÃ©ma symbolique q
 ui exprime la Connaissance, la Sagesse contenue dans lâ€™Homme.Â Â  Il
  contient en lui les fondements de lâ€™Ãªtre dans sa complexitÃ© et da
 ns toute sa profondeur.Â  Et donne une comprÃ©hension non pas intellec
 tuelle, mais sensible pour entrer en harmonie avec lâ€™Univers.\nÂ  Â 
  Â  Â  Â Prochain sÃ©minaireÂ : Â Â Le 9 et 10 Juillet 2016Â : Â« GuÃ©
 burah, la Force Tranquille\" Â \nGuÃ©burah nous invite Ã  dissoudre le
 s stratÃ©gies de lâ€™Ã©go qui rÃ©active toujours les mÃªmes scÃ©narios
 , Ã  dÃ©jouer les piÃ¨ges du mental sans cesse Ã©garÃ© dans le labyrin
 the de Maya. Il nous permet de voir en quoiÂ  Â«Â les leÃ§ons de vieÂ 
 Â» peuvent se rÃ©vÃ©ler Ãªtre un facteur dâ€™Ã©volution,Â  lorsquâ€™el
 les ont Ã©tÃ© comprises.\nL'objectif de ce sÃ©minaire est de nous rÃ©a
 pproprier notre puissance intÃ©rieure pour Ã©radiquer les flux mentaux
  qui nous enlisent. GuÃ©burah gÃ©nÃ¨re en nous une nouvelle vitalitÃ© 
 aussi bien dans le corps que dans lâ€™esprit.\n7 niveaux de conscience
  sont Ã  connaÃ®tre pour acquÃ©rir la Force Tranquille, ce qui nÃ©cess
 ite de stabiliser son esprit dans le prÃ©sent, au point O.\nUne approc
 he sensible et intuitive qui a comme supportÂ : Mandala de Transmutati
 on - exercices en binÃ´me Visualisation crÃ©atrice... et le plaisir d'
 Ãªtre ensembleÂ  Â  Â \nanimÃ© par Catherine Partouche Â Coach en dÃ©v
 eloppement personnel et transpersonnel Â  Â  Â  Â  Â  Â  Â  Â  Â  Â  Â
   Â  Â  Â  Â  Â  Â  Â  Â  Â  Â  Â  Â  Â  Â  Â  Â  Â  Â  Â  Â  Â  Â  Â 
  Â  Â  Â  Â  Â  Â  Â  Â  Â  Â  Â \nTarif du sÃ©minaire : 180â‚¬Â Â  po
 ur le week-endÂ Â  HorairesÂ : 9H30 Ã  12H30 et 14H Ã  18H Â  Â  Â  Â 
  Â  Â  Â Adresse du sÃ©minaireÂ : Â  Montpellier Â  Â  Â  Â  Â  Â  Â  
 Â  Â  Â  Â  Â  Â  Â  Â  Â  Â  Â  Â  Â  Â  Â  Â  Â  Â  Â  Â  Â  Â  Â  Â
   Â  Â  Â  Â  Â  Â  Â  Â  Â  Â  Â  Â  Â  Â  Â  Â  Â  Â  Â  Â  Â  Â  Â 
  Â  Â  Â  Â  Â \nÂ Inscriptions dÃ¨s Ã  prÃ©sent au 06 17 11 91 40 Â  
 Â  Â  Â  Â  Â  Â  Â  Â places limitÃ©es Â  Â  Â  Â  Â  Â  Â  Â \n\nPou
 r plus d'information, aller sur https://epanews.fr/events/l-arbre-de-v
 ie-s-minaire-hod-le-pouvoir-cr-ateur
DTSTART;TZID=Europe/Paris:20160709T093000
DTEND;TZID=Europe/Paris:20160710T180000
CATEGORIES:34
LOCATION:Montpellier
WEBSITE:
URL:
CONTACT:06 17 11 91 40
ORGANIZER;CN=Catherine:https://epanews.fr/profile/Catherine453
ATTACH;FMTTYPE="image/jpeg":http://storage.ning.com/topology/rest/1.0/
 file/get/1663541402?profile=original
ATTENDEE;ROLE=REQ-PARTICIPANT;PARTSTAT=ACCEPTED;RSVP=TRUE;CN=Catherine
 :https://epanews.fr/profile/Catherine453
END:VEVENT
END:VCALENDAR
