BEGIN:VCALENDAR
PRODID:NingEventWidget-v1
VERSION:2.0
METHOD:PUBLISH
BEGIN:VTIMEZONE
TZID:Europe/Paris
X-LIC-LOCATION:Europe/Paris
BEGIN:DAYLIGHT
TZOFFSETFROM:+0100
TZOFFSETTO:+0200
TZNAME:CEST
DTSTART:19700329T020000
RRULE:FREQ=YEARLY;BYMONTH=3;BYDAY=-1SU
END:DAYLIGHT
BEGIN:STANDARD
TZOFFSETFROM:+0200
TZOFFSETTO:+0100
TZNAME:CET
DTSTART:19701025T030000
RRULE:FREQ=YEARLY;BYMONTH=10;BYDAY=-1SU
END:STANDARD
END:VTIMEZONE
BEGIN:VEVENT
UID:2485226:Event:2582717
DTSTAMP:20260421T232131Z
SUMMARY:L'après-midi découverte
DESCRIPTION:Les Frères Ainés de l’humanité, mythe ou réalité ?Q
 uelque chose qui nous interroge… Certains de ces sages auraient choi
 si de vivre parmi nous, sans jamais interférer sur notre libre arbitr
 e. Ils en appelleraient au coeur et à l’esprit des hommes pour cons
 truire la voie à l’établissement de justes et harmonieuses relatio
 ns humaines sur toute notre planète.\"L’après-midi découverte\" v
 ous propose d’aborder, selon les ouvrages de Benjamin Creme (peintre
  et conférencier ésotériste) :* les Frères Ainés de l'humanité,\
 n*et la méditation de transmission.Au programme : Une interview vidé
 o, une conférence vidéo de Benjamin Creme, séances de question\n\nP
 our plus d'information, aller sur https://epanews.fr/events/l-apr-s-mi
 di-d-couverte
DTSTART;TZID=Europe/Paris:20160220T140000
DTEND;TZID=Europe/Paris:20160220T173000
CATEGORIES:75
LOCATION:75001 Paris
WEBSITE:
URL:
CONTACT:
ORGANIZER;CN="Amis de Partage International":https://epanews.fr/profil
 e/AmisdePartageInternational
ATTACH;FMTTYPE="image/jpeg":
ATTENDEE;ROLE=REQ-PARTICIPANT;PARTSTAT=ACCEPTED;RSVP=TRUE;CN="Amis de 
 Partage International":https://epanews.fr/profile/AmisdePartageInterna
 tional
END:VEVENT
END:VCALENDAR
