BEGIN:VCALENDAR
PRODID:NingEventWidget-v1
VERSION:2.0
METHOD:PUBLISH
BEGIN:VTIMEZONE
TZID:Europe/Paris
X-LIC-LOCATION:Europe/Paris
BEGIN:DAYLIGHT
TZOFFSETFROM:+0100
TZOFFSETTO:+0200
TZNAME:CEST
DTSTART:19700329T020000
RRULE:FREQ=YEARLY;BYMONTH=3;BYDAY=-1SU
END:DAYLIGHT
BEGIN:STANDARD
TZOFFSETFROM:+0200
TZOFFSETTO:+0100
TZNAME:CET
DTSTART:19701025T030000
RRULE:FREQ=YEARLY;BYMONTH=10;BYDAY=-1SU
END:STANDARD
END:VTIMEZONE
BEGIN:VEVENT
UID:2485226:Event:1794516
DTSTAMP:20260422T125908Z
SUMMARY:L'apocalypse? oui, merci !
DESCRIPTION:je propose une rencontre \"café de Personocratia\" avec u
 ne vidéo-conférence  et un moment de partage sur les questions d'ac
 tualité ..\n\nPour plus d'information, aller sur https://epanews.fr/e
 vents/l-apocalypse-oui-merci
DTSTART;TZID=Europe/Paris:20140302T143000
DTEND;TZID=Europe/Paris:20140302T173000
CATEGORIES:56, 35, 22, 29
LOCATION:Plouharnel 56340
WEBSITE:
URL:
CONTACT:02 97 58 37 56
ORGANIZER;CN=anyvone:https://epanews.fr/profile/dezell
ATTACH;FMTTYPE="image/jpeg":
ATTENDEE;ROLE=REQ-PARTICIPANT;PARTSTAT=ACCEPTED;RSVP=TRUE;CN=anyvone:h
 ttps://epanews.fr/profile/dezell
END:VEVENT
END:VCALENDAR
